BEGIN:VCALENDAR
VERSION:2.0
PRODID:-//ElectricBlue.Asia - ECPv6.15.17.1//NONSGML v1.0//EN
CALSCALE:GREGORIAN
METHOD:PUBLISH
X-WR-CALNAME:ElectricBlue.Asia
X-ORIGINAL-URL:https://electricblue.asia
X-WR-CALDESC:Events for ElectricBlue.Asia
REFRESH-INTERVAL;VALUE=DURATION:PT1H
X-Robots-Tag:noindex
X-PUBLISHED-TTL:PT1H
BEGIN:VTIMEZONE
TZID:Asia/Singapore
BEGIN:STANDARD
TZOFFSETFROM:+0800
TZOFFSETTO:+0800
TZNAME:+08
DTSTART:20240101T000000
END:STANDARD
END:VTIMEZONE
BEGIN:VEVENT
DTSTART;TZID=Asia/Singapore:20250109T090000
DTEND;TZID=Asia/Singapore:20250112T170000
DTSTAMP:20260425T105926
CREATED:20241212T112746Z
LAST-MODIFIED:20241212T112746Z
UID:15810-1736413200-1736701200@electricblue.asia
SUMMARY:Singapore Motorshow 2025
DESCRIPTION:The Singapore Motorshow 2025 returns to Suntec Singapore Convention & Exhibition Centre from 9th to 12th January 2025\, featuring top EV and automotive brands in a larger venue.\nSpanning three levels for the first time — Halls 401-406 on Level 4\, plus new spaces on Level 3 and the Level 1 Atrium — this year’s show promises an unmatched lineup of automotive brands and thrilling experiences. \nStep into the future of driving with the latest EVs\, next-gen technologies\, and brand-new models\, all in one place. Don’t miss out on interactive booth experiences\, exclusive offers and the most exciting opportunity of all— one lucky visitor will drive home a Subaru Forester i-S EyeSight e-Boxer Hybrid or a Nissan LEAF! \nThe Singapore Motorshow 2025 will see participation from over 29 automotive brands\, including familiar names as well as new entries to Singapore’s market. Major players such as Mercedes Benz\, Kia\, Citroen\, Audi\, BMW\, Lexus\, Nissan\, Toyota and Volvo will be joined by brands such as Ora\, Maxus\, Smart\, Alpine\, BYD\, Omoda and Zeekr. \nThe Singapore Motorshow 2025 promises more than just a static display of vehicles. Visitors can enjoy exciting booth activities\, exclusive offers\, and interactive experiences\, allowing them to engage with the latest technologies\, and discover new ways to elevate their driving experience. From innovative in-car connectivity to AI-powered safety features\, this year’s event offers something for everyone. \nAttendees will also have a chance to win a brand-new Nissan LEAF or Subaru Forester i-S EyeSight e-Boxer Hybrid at Singapore Motorshow 2025’s lucky draw\, adding an extra layer of excitement to this year’s event. Whether a motoring enthusiast\, a family\, or simply curious about the future of transportation\, the Singapore Motorshow 2025 offers a captivating and comprehensive experience. \nSingapore Motorshow Tickets\nGeneral Public tickets will be available starting 2 December 2024 via SISTIC at S$10. Limited Preview tickets for just $20 will be available on-site starting at 2pm on 9 January 2025. These tickets grant holders exclusive early access to the Singapore Motorshow 2025. These tickets will be offered on a first-come\, first-served basis. Children below 1.2 meters can enter free of charge. For updates\, please visit the official Singapore Motorshow 2025 website. \nBuy tickets now for Singapore’s hotly anticipated motorshow! \nFor more EV related events\, visit ElectricBlue.Asia’s Events page \n  \n\n\n\n  \n\n\n\n\n 
URL:https://electricblue.asia/event/singapore-motorshow-2025/
LOCATION:SUNTEC City\, Singapore\, 3 Temasek Blvd\, #1\, #327-328\, Singapore 038983\, Singapore\, 327328\, Singapore
CATEGORIES:Events,Exhibition
ATTACH;FMTTYPE=image/jpeg:https://electricblue.asia/wp-content/uploads/2024/12/Singapore-Motorshow-2025-1.jpeg
END:VEVENT
END:VCALENDAR