BEGIN:VCALENDAR
VERSION:2.0
PRODID:-//ElectricBlue.Asia - ECPv6.15.17.1//NONSGML v1.0//EN
CALSCALE:GREGORIAN
METHOD:PUBLISH
X-ORIGINAL-URL:https://electricblue.asia
X-WR-CALDESC:Events for ElectricBlue.Asia
REFRESH-INTERVAL;VALUE=DURATION:PT1H
X-Robots-Tag:noindex
X-PUBLISHED-TTL:PT1H
BEGIN:VTIMEZONE
TZID:Asia/Jakarta
BEGIN:STANDARD
TZOFFSETFROM:+0700
TZOFFSETTO:+0700
TZNAME:WIB
DTSTART:20240101T000000
END:STANDARD
END:VTIMEZONE
BEGIN:VEVENT
DTSTART;TZID=Asia/Jakarta:20250429T090000
DTEND;TZID=Asia/Jakarta:20250504T180000
DTSTAMP:20260426T002935
CREATED:20250413T074909Z
LAST-MODIFIED:20250413T074917Z
UID:16280-1745917200-1746381600@electricblue.asia
SUMMARY:Asiabike Jakarta 2025
DESCRIPTION:Asiabike Jakarta 2025 – Southeast Asia’s hub for micro-mobility innovation & business connections \nIn response to the global shift toward sustainable urban transportation\, Asiabike Jakarta (ABJ) in collaboration with PERIKLINDO Electric Vehicle Show (PEVS) returns in 2025 to showcase a comprehensive range of micro-mobility solutions. The show will present a wide range of offerings\, including electric bikes and scooters\, electric motorcycles\, electric tricycles\, as well as products from related sectors such as batteries\, charging stations\, parts and equipment\, and fashion and accessories. \nFollowing a successful debut that attracted over 10\,000 attendees\, ABJ will return to JIExpo Kemayoran\, Jakarta\, from 29 April – 4 May 2025. Many prominent exhibitors from last year\, including DATAI\, DIMENTRO\, JURRY\, PHYLION\, SUNRA\, TIANYING\, and ZHIYANG are set to participate again. This year\, in an effort to deepen the collaboration with PEVS\, the 2nd edition will categorise exhibits by product types rather than hosting separate fairs. This new structure fosters synergy and streamlines the sourcing process for buyers\, covering the entire supply chain – from parts and accessories to a diverse range of electric vehicles – all in one convenient location. \nGlobal partnerships & Chinese pavilions \nAs part of Messe Frankfurt’s global trade fair network\, ABJ stands as a pioneering industry event. The show leverages the group’s extensive global network and expertise in organising world-renowned mobility events\, including Eurobike. \nThis year\, the fair will welcome a strong delegation of Chinese manufacturers\, further enhanced by the addition of two new Chinese partners: the Jiangsu International Trade Promotion Center and the China Chamber of Commerce for Import and Export of Machinery and Electronic Products. They will organise dedicated pavilions from the Jiangsu province\, China’s largest E2W production hub\, where cutting-edge innovations from Wuxi’s Xishan district (renowned as the “hometown of two-wheeled EVs”) await discovery. \nDebuting in 2025: dedicated zone for electric three-wheelers (E3Ws) \nA dedicated E3W zone will spotlight a diverse array of leisure\, passenger\, and cargo models designed for last-mile delivery and urban logistics. As e-commerce continues to rise with urban logistics challenges\, E3Ws are emerging as an essential solution for reducing carbon emissions. Moreover\, E3Ws require only a standard driving license to operate\, which helps alleviate driver shortages.  \nAccelerating successful B2B connections   \nABJ 2025 prioritises B2B engagement through: \n\nIndustry forums\, business matching programmes & evening gatherings: Gain insights into market trends\, regulations\, and potential partnerships.\nTest ride & networking events: Experience the performance and quality of various models first-hand to discover your perfect ride.\nProduct launches: Be among the first to witness ground-breaking innovations in e-mobility.\n\nAdmission to ABJ 2025\n\nFor visiting trade buyers: \n\nStep 1: Complete the online registration form and submit your application\nStep 2: Present your pre-registration code and your business card at the on-site registration counter to receive a free admission badge\n\nIf you are interested in applying for a booth at ABJ\, please reach out to the team here for assistance.\n\nLimited-time partnership opportunity!  \nAttention media representatives and association leaders – we have an exciting opportunity to boost your clients’ business prospects as we gear up for ABJ 2025! \nFor recognised media outlets or associations that successfully organise a visitor delegation\, we are offering complimentary round-trip flights and accommodations in Jakarta for the group leader\, along with exclusive benefits for invited trade buyers. Attendees can also enjoy perks such as a tailored business matching service and VIP lounge access at the fair. \nInterested in the opportunity? Contact the team at AsiabikeJakarta@hongkong.messefrankfurt.com to learn more.  \nWhy attend Asiabike Jakarta 2025? \nABJ 2025 is your gateway to discovering eco-friendly mobility solutions\, fostering cross-sector industry collaboration\, and tapping into Southeast Asia’s booming electric vehicle market. \nPlan your visit today – where business meets innovation! \n \n\n\n\nDetails \nStart: \nApril 29\, 2025 \nEnd: \nMay 4\, 2025 \nEvent Categories: \nEvents\, Exhibition \nEvent Tags: \nEvents\, Indonesia\, Jakarta \nWebsite: \nhttp://www.asiabikejakarta.com\nOrganiser \nMesse Frankfurt (HK) Ltd \nPhone \n+852 2230 9294 \nEmail \nasiabikejakarta@hongkong.messefrankfurt.com  \nView Organiser Website\nVenue \nJakarta International Expo (JIEXPO Kemayoran) \nRW.10\, East Pademangan\, Pademangan\, Central Jakarta City\, Jakarta 14410\, Indonesia\nNorth Jakarta\, Jakarta 14410 Indonesia + Google Map \nPhone \n(+62-21) 26645-000 \nView Venue Website\n\n\n\n 
URL:https://electricblue.asia/event/asiabike-jakarta-2025/
LOCATION:Jakarta International Expo (JIEXPO Kemayoran)\, RW.10\, East Pademangan\, Pademangan\, Central Jakarta City\, Jakarta 14410\, Indonesia\, North Jakarta\, Jakarta\, 14410\, Indonesia
CATEGORIES:Events,Exhibition
ATTACH;FMTTYPE=image/png:https://electricblue.asia/wp-content/uploads/2025/04/Asiabike-Jakarta-2025.png
ORGANIZER;CN="Messe Frankfurt (HK) Ltd":MAILTO:info@hongkong.messefrankfurt.com
END:VEVENT
END:VCALENDAR