BEGIN:VCALENDAR
VERSION:2.0
PRODID:-//ElectricBlue.Asia - ECPv6.15.17.1//NONSGML v1.0//EN
CALSCALE:GREGORIAN
METHOD:PUBLISH
X-ORIGINAL-URL:https://electricblue.asia
X-WR-CALDESC:Events for ElectricBlue.Asia
REFRESH-INTERVAL;VALUE=DURATION:PT1H
X-Robots-Tag:noindex
X-PUBLISHED-TTL:PT1H
BEGIN:VTIMEZONE
TZID:Asia/Shanghai
BEGIN:STANDARD
TZOFFSETFROM:+0800
TZOFFSETTO:+0800
TZNAME:CST
DTSTART:20240101T000000
END:STANDARD
END:VTIMEZONE
BEGIN:VEVENT
DTSTART;TZID=Asia/Shanghai:20250827T090000
DTEND;TZID=Asia/Shanghai:20250829T170000
DTSTAMP:20260425T001040
CREATED:20250611T103052Z
LAST-MODIFIED:20250612T055001Z
UID:16427-1756285200-1756486800@electricblue.asia
SUMMARY:Auto Aftermarket Guangzhou 2025
DESCRIPTION:Auto Aftermarket Guangzhou 2025\nAuto Aftermarket Guangzhou 2025 is one of Asia’s premier trade fairs for the automotive aftermarket industry\, bringing together leading global manufacturers\, suppliers\, distributors\, and industry professionals. Held in Guangzhou\, China\, this must-attend event showcases the latest in auto parts\, maintenance equipment\, car care products\, accessories\, and diagnostic technologies. Discover cutting-edge innovations\, network with key industry players\, and explore growth opportunities in one of the world’s largest automotive markets. Don’t miss the chance to connect with top brands and gain valuable insights at Auto Aftermarket Guangzhou 2025. \nFair Name Auto Aftermarket Guangzhou 2025\nFair Date 27 – 29.8.2025\nOpening Hours 9:00am – 5:00pm (last day until 3:00pm)\nVenue PWTC Expo (Guangzhou\, China)\nExhibition Space 80\,000 sqm (expected)\nExhibitor 1\,550 (expected)\nVisitor 47\,000 (expected) \nChina’s Automotive Industry Continues Global Leadership‌ \nIn 2024\, China’s automotive production and sales secured the world’s top spot for the 16th consecutive year\, with output and sales reaching ‌31.282 million units‌ and ‌31.436 million units‌\, respectively\, up 3.7% and 4.5% year-on-year. The new energy vehicle (NEV) sector stood out remarkably\, with production and sales exceeding ‌12.8 million units‌\, achieving a penetration rate of over ‌40%‌ and a 34% annual growth\, solidifying its role as the core growth engine. As vehicle ownership surges\, the automotive aftermarket has experienced explosive growth\, surpassing ‌RMB 6.4 trillion‌ in scale. Automakers are extending their value chains by diversifying services and optimizing full-industry-chain strategies to drive high-quality development. \n‌Guangdong-Hong Kong-Macao Greater Bay Area: A Powerhouse for Dual Circulation‌ \nIn 2024\, the Greater Bay Area’s economic output exceeded ‌RMB 14 trillion‌\, with its nine mainland cities contributing ‌RMB 11.5 trillion‌—nearly 80% of Guangdong Province’s GDP. Its total import-export value reached ‌RMB 8.75 trillion‌\, accounting for 96% of the province’s total\, providing robust support for the automotive industry’s domestic-international dual circulation strategy. \n‌Auto Aftermarket Guangzhou 2025 (AAG): Pioneering Innovation Since 2015‌ \nUpholding the principles of ‌”Innovation\, Collaboration\, and Win-Win\,”‌ AAG has established itself as a premier international platform for showcasing\, networking\, and knowledge exchange in South China’s automotive aftermarket. By leveraging the Greater Bay Area’s dynamism and extending its influence to Southeast Asia\, AAG integrates product exhibitions\, technical dialogues\, and industry upgrades to accelerate the sector’s transformation and sustainable growth. \n‌Key Exhibition Zones‌ \n‌Auto Vulnerable Parts Zone (Hall 5):‌ Focused on high-frequency wear components like engines and brake pads\, this zone highlights cutting-edge technologies to address vehicle maintenance challenges\, enhance efficiency\, and ensure road safety. \n‌Commercial Vehicle Zone (Hall 6):‌ Catering to the rising demand for premium parts and tailored solutions\, this zone features industry-leading brands offering a one-stop service ecosystem—from engine components to specialized repair kits—to fuel the commercial vehicle aftermarket’s expansion. \nAAG continues to serve as a global bridge\, meeting smart and personalized automotive consumption needs while driving sustainable development across the entire automotive value chain. \n1. Parts & Components\nComponents for conventional drive systems (engine\, gearbox\, powertrain\, exhaust)\nChassis (axles\, steering\, brakes\, wheels\, shock absorbers)\nBody (metal parts\, roof systems\, mounted parts\, windows\, bumpers)\nStandard mechanical parts (fastening elements\, threaded and securing elements\, sealing rings\, roller bearings)\nInterior (cockpits\, buttons\, switches\, instruments\, airbags\, seats\, shelf and storage concepts\, illumination\, heating\, air-conditioning\, electrical adjusters\, interior filters)\nExterior (doors\, windows/glass\, mounted parts)\nEngine electronics (control units\, bus systems\, sensors\, actuators)\nVehicle lighting (headlights\, LED / OLED\, lasers\, exterior and interior lighting\, intelligent headlight systems\, night and thermal-imaging cameras)\nElectrical system (electrical power supply\, batteries\, cables\, wiring harnesses\, cable mounting and connecting elements\, plug connections\, sensors\, on-board diagnostics\, high-voltage systems) \n2. Accessories & Customising\nExterior accessories (accessories for tyres\, rims\, snow chains\, edge protectors\, sill trims\, trailer couplings\, tow ropes\, covers\, marten repellent\, stone chip protection films)\nInterior accessories (starting aids\, child seats\, car mats\, seat & boot protectors\, covers\, car beds\, safety products\, first-aid kit\, warning waistcoats\, fire extinguisher\, sunshade\, car hoover)\nTransport systems & superstructures for motor vehicles\, vans\, campers\, pick-up (transport solutions\, load securing\, carrier systems for sports\, bicycle racks\, tailgate systems\, roof racks\, roof boxes\, trailer & rail systems\, roof bodies and tents)\nTechnical customizing (body styling\, engine\, chassis and exhaust tuning\, sports equipment\, lighting\, tyres and rims)\nOptical customizing (car styling\, foiling\, protective films\, airbrush systems\, interieur and audio tuning\, rims)\nInfotainment (multimedia\, car media devices\, audio and sound systems\, navigation\, integrable services\, in-car-gaming\, -entertainment\nSpecial vehicles & bodies for commercial vehicles (load compartment equipment\, equipment\, installations and conversions for vans\, ambulance transport\, police\, taxis)\nLifestyle\, luxury & merchandise items (clothing\, luggage\, outdoor\, personalised products\, ice scrapers\, parking discs\, number plates\, key rings\, retro & nostalgia articles\, tin signs\, miscellaneous)\nCar fragrance & special products (air fresheners\, fragrance dispensers\, car perfume\, cockpit spray\, special products for insect removal\, fragrance tree\, diffuser)\nOrganisation systems (boot organiser\, interior organiser\, boot bag\, folding boxes\, cup holders\, bags\, utensil bags\, backrest protection\, folding table for laptop\, kneeling tray\, can safe)\nAccessories for pets (holding and transport systems for pets\, dog beds\, dog seats\, dog blankets\, travel bags\, car harnesses\, seat belts\, boarding aids\, dog ramps)\nCo-branding of film and TV culture\, auto racing\, racing club\, personal works display.\nAuto service (supply chain\, data software\, logistics\, insurance\, finance) \n3. Diagnostics & Repair\nWorkshop equipment for repair and maintenance (systems and equipment\, battery management\, lifting gear\, test and measurement equipment\, tyre installation\, workshop equipment\, networking software)\nTools (impact screwdrivers\, diagnostic equipment\, compressors\, wrenches)\nDigital maintenance\, vehicle diagnostics\, maintenance and repair of vehicle superstructures\, towing equipment\nWorkshop equipment for repair and maintenance for alternative drive concepts (tools for high-voltage systems\, hydrogen sensors)\nFastening and bonding solutions\, waste disposal and recycling\, workshop safety and ergonomic workshops\, Workshop and dealership equipment\nOils and lubricants (systems\, equipment\, lubricants\, auxiliaries and consumables\, technical sprays / aerosol\, disposal and recycling\, industrial hygiene)\nWashing (automatic car wash facilities for exteriors\, wash stations\, washing equipment\, chemicals\, accessories)\nVehicle care (exterior and interior cleaning\, equipment for vehicle care\, cleaning and care products\, care aerosol\, washing accessories\, vacuum cleaners\, high-pressure cleaners)\nVehicle preparation and detailing\, water reclamation\, water treatment\nFilling station equipment (filling station equipment\, tank systems for conventional fuels)\nBodywork repairs\, paintwork and corrosion protection\, smart repairs for paintwork\, metal parts\, plastic parts\, windows\, headlights\nNew materials (lightweight\, carbon\, magnesium\, aluminum) \n4. Oils\, Lubricants & Fuels\nInstallations (oil filling systems\, oil dispensing systems and equipment\, lubrication systems and equipment)\nLubricants and greases (cooling lubricants\, greases and pastes)\nOils and oil substances (lubricating oils)\nAdditives\nAuxiliaries and consumables\nTechnical fluids (coolants\, refrigerant\, gases\, fluid management)\nTechnical sprays (cleaning\, care\, lubricant and universal sprays)\, aerosols\nTank management (storage\, cleaning and maintenance)\nFilling station equipment (filling station equipment\, tank systems for all types of fuels\, Digital Fuel Twins)\nAlternative fuels (synthetic fuels\, bio-fuels\, re-fuels\, waste fuels\, LPG\, CNG\, ethanol\, hydrogen)\nIndustrial and workshop hygiene (surface and hand cleaning agents\, disinfection)\nSustainability management\, waste disposal and recycling (systems\, equipment\, processes and services) \n5. Tyres & Wheels\nTyres (summer/winter tyres for cars\, utility vehicles\, trucks\, two-wheeled vehicles and special vehicles\, exclusive tyres for SUV\, sports cars and premium vehicles\, wide-track tyres\, industrial tyres\, carcasses and tubes)\nWheels and rims (exclusive and customised wheels and rims\, industrial rims\, customised wheel rims)\nTyre/wheel repair and disposal (vulcanisation\, balancing\, wear-and-tear repairs\, elastification agents\, repair materials\, tools\, fillers\, disposal)\nUsed tyres and wheels (retreading\, recycling\, vulcanisation\, tyre care)\nTyre/wheel management and systems (IT systems\, online tyre portals\, inspection\, tyre logistics\, tyre leasing and rental\, tyre storage)\nSales equipment and storage of tyres (operating / storage / office / showroom equipment and facilities\, sales aids\, certification\, tyre-storage)\nAccessories for tyres\, wheels and installation (valves\, storage labels\, balancing weights\, theft prevention\, safety equipment\, wheel nuts\, tyre pressure management systems) \nAdmission For trade visitors only – upon registration.\nPersons under 18 will not be admitted.\nOrganisers Messe Frankfurt (Shanghai) Co Ltd \nSinomachint − China National Machinery Industry International Co Ltd \nUndertakers Messe Frankfurt (Shanghai) Co Ltd \nSinomachint − China National Machinery Industry International Co Ltd\nChina National Automotive International Trade Services Co Ltd (Guangzhou) \nFact sheet \n27 – 29.8.2025\nGUANGZHOU\, CHINA \nSpecially supported by \nGuangzhou Municipal People’s Government\nNam Kwong (Group) Co Ltd \nAssociates Guangzhou Municipal Commerce Bureau \nGuangzhou Municipal Industry and Information Technology Bureau \nAssociate Supporters SINOMACH Intelligence Technology Co Ltd \nChina National Electric Apparatus Research Institute Co Ltd\nCMEC International Exhibition Co Ltd\nChina National Machine Tool Sales and Technical Service Corporation\nAssociation of Promotion for Guangzhou Industrial Merchants Investment\nNam Kwong Exhibition Co Ltd\nGuangzhou Poly International Trade Investment Co Ltd\nChina Auto Parts & Accessories Corporation\nChina National Automotive Industry Parts Sales Co Ltd\nOverseas partners AIAG – Automotive Industry Action Group (USA) \nSAE International (USA)\nContact Messe Frankfurt (HK) Ltd\n35/F China Resources Building\n26 Harbour Road\nWanchai\, Hong Kong\nTel: +852 2802 7728\nauto@hongkong.messefrankfurt.com\nwww.aag.org.cn \nMesse Frankfurt (Shanghai) Co Ltd\n11/F\, Office Tower 1\, Century Metropolis \nFor more EV related and Auto events across the region\, visit ElectricBlue.Asia’s Events page.
URL:https://electricblue.asia/event/auto-aftermarket-guangzhou-2025/
LOCATION:Poly World Trade Centre Guangzhou\, 1000 Xin'gang E Rd\, Haizhu District\, Guangzhou\, Guangdong Province\, China\, 510320\, Guangzhou\, Guangdong\, 510320\, China
CATEGORIES:Events,Exhibition
ATTACH;FMTTYPE=image/gif:https://electricblue.asia/wp-content/uploads/2025/06/agg25_banner_745x285.gif
ORGANIZER;CN="Messe Frankfurt (HK) Ltd":MAILTO:info@hongkong.messefrankfurt.com
END:VEVENT
END:VCALENDAR