BEGIN:VCALENDAR
VERSION:2.0
PRODID:-//ElectricBlue.Asia - ECPv6.15.17.1//NONSGML v1.0//EN
CALSCALE:GREGORIAN
METHOD:PUBLISH
X-WR-CALNAME:ElectricBlue.Asia
X-ORIGINAL-URL:https://electricblue.asia
X-WR-CALDESC:Events for ElectricBlue.Asia
REFRESH-INTERVAL;VALUE=DURATION:PT1H
X-Robots-Tag:noindex
X-PUBLISHED-TTL:PT1H
BEGIN:VTIMEZONE
TZID:Asia/Kuala_Lumpur
BEGIN:STANDARD
TZOFFSETFROM:+0800
TZOFFSETTO:+0800
TZNAME:+08
DTSTART:20230101T000000
END:STANDARD
END:VTIMEZONE
BEGIN:VTIMEZONE
TZID:Asia/Dubai
BEGIN:STANDARD
TZOFFSETFROM:+0400
TZOFFSETTO:+0400
TZNAME:+04
DTSTART:20230101T000000
END:STANDARD
END:VTIMEZONE
BEGIN:VTIMEZONE
TZID:Asia/Bangkok
BEGIN:STANDARD
TZOFFSETFROM:+0700
TZOFFSETTO:+0700
TZNAME:+07
DTSTART:20230101T000000
END:STANDARD
END:VTIMEZONE
BEGIN:VTIMEZONE
TZID:Asia/Jakarta
BEGIN:STANDARD
TZOFFSETFROM:+0700
TZOFFSETTO:+0700
TZNAME:WIB
DTSTART:20230101T000000
END:STANDARD
END:VTIMEZONE
BEGIN:VTIMEZONE
TZID:Asia/Shanghai
BEGIN:STANDARD
TZOFFSETFROM:+0800
TZOFFSETTO:+0800
TZNAME:CST
DTSTART:20230101T000000
END:STANDARD
END:VTIMEZONE
BEGIN:VEVENT
DTSTART;TZID=Asia/Kuala_Lumpur:20240522T100000
DTEND;TZID=Asia/Kuala_Lumpur:20240526T220000
DTSTAMP:20260426T101507
CREATED:20240312T132708Z
LAST-MODIFIED:20240312T132708Z
UID:14820-1716372000-1716760800@electricblue.asia
SUMMARY:Malaysia Autoshow 2024
DESCRIPTION:The Malaysia Autoshow 2024 (MAS 2024) will open its doors once again this 22nd to 26th May 2024\, at the Malaysia Agro Exposition Park Serdang (MAEPS)\, and will expand to nearby IOI City Mall to bring an even bigger experience for visitors. \nThe Autoshow’s seventh edition – organised by the Malaysia Automotive\, Robotics and IoT Institute (MARii) – continues the tradition of showcasing the latest vehicles on the market\, for both Internal Combustion Engine (ICE) and Electric Vehicles (EV) alike\, more brands will be highlighted with an expansion from 30\,000 square meter to an impressive 40\,000 square meters of exhibition space. \nLast year’s Autoshow surpassed the RM 1 billion mark in potential sales\, with nearly 200\,000 enthusiastic visitors over the four-day event. The show featured 9 new car and bikes launches\, showcasing over 30 car brands and 50 bike brands and accessories\, across more than 300 displays\, including vehicles\, accessories\, and cutting-edge technology products. \nThis year\, the Autoshow will now be 5 days long (with a another day open to only the media)\, and will expand to IOI City Mall\, Putrajaya\, to allow not only for more exhibition space\, but to improve overall traffic flow in and out of the show. \nMalaysia Autoshow 2024 is gearing up to be yet another milestone event. The exhibition space will see a significant expansion providing more room for innovation and excitement. \nLonger Test Drive Routes at Malaysia Autoshow 2024\nOne of the key reasons the Malaysia Autoshow has been held in MAEPS Serdang (since 2017\, actually) is the test routes. The grounds of MAEPS\, full of twisting roads and lanes in and out of the halls\, make it a perfect place to test drive the cars you intend to buy on a further road\, at speeds that allow you to better judge ride\, handling\, comfort etc. \nThe test drives have always been a big hit\, and this year the organisers are going to make the test tracks even longer – 18kms long in total! \nApart from the current 4.5km test route in MAEPS\, certain vehicle models (particularly those with higher engine capacities) would be test driven from the adjacent IOI City Mall test drive lobby. There are 2 routes\, encompassing a drive around the mall\, and the adjacent SKVE before making a turn back to base. The three routes combined make the Malaysia Autoshow 2024 test drive route a total of 18 kilometres! \nDon’t miss this edition of Malaysia Autoshow 2024! \nTickets for the event can be purchased at the following link \n 
URL:https://electricblue.asia/event/malaysia-autoshow-2024/
LOCATION:Malaysia Agro Exposition Park Serdang (MAEPS)\, MAEPS Secretariat Building\, Mardi\, 43400\, Serdang\, Selangor\, Serdang\, Selangor\, 43400\, Malaysia
CATEGORIES:Events,Exhibition
ATTACH;FMTTYPE=image/png:https://electricblue.asia/wp-content/uploads/2024/03/Malaysia-Autoshow-2024.png
ORGANIZER;CN="Malaysia Automotive Robotics and IoT Institute (MARii)":MAILTO:info@marii.my
END:VEVENT
BEGIN:VEVENT
DTSTART;TZID=Asia/Dubai:20240520T080000
DTEND;TZID=Asia/Dubai:20240522T170000
DTSTAMP:20260426T101507
CREATED:20240425T062906Z
LAST-MODIFIED:20240425T062906Z
UID:15227-1716192000-1716397200@electricblue.asia
SUMMARY:EVIS 2024 - EV Innovation Summit\, Abu Dhabi
DESCRIPTION:EVIS 2024 – EV Innovation Summit 2024\nThe premier gathering in the Middle East spotlighting the future of electric vehicles. Unveil ground-breaking advancements\, connect with decision-makers\, and be at the forefront of sustainable mobility. \nShowcase Your Vision\, Shape the EV Future\nWelcome to the EV Innovation Summit\, a focal point for electric vehicle advancements. The exhibition serves as a neutral ground where developments in sustainable transport are not just displayed\, but also discussed and analyzed. \n\n\nEV Manufacturers & Distributors\n\n\nFleet Owners & Integrated Energy Companies\n\n\nBanking and Investment Firms\n\n\nR&D Centers & Environmental Agencies\n\n\nGovernment Organizations & Municipalities\n\n\n…and more.\n\n\nPublic Transport Operators\n\n\nBy showcasing at the summit\, you’ll be aligning with a movement that values progress and sustainability in the transport sector. It’s an opportunity to share your expertise\, innovations\, and vision with a like-minded audience. \nElevate Your EV Industry Knowledge at the EVIS Main Conference!\nImmerse yourself in the electric vehicle landscape at the EVIS Main Conference. Start each day inspired by a keynote from influential figures\, and engage in lively panel discussions led by top industry leaders. Delve into the major market disruptors and get a glimpse of the future trends steering the EV realm. Equip yourself with insights and trends to stay ahead in the rapidly evolving EV industry. \nWhy Visit EVIS 2024?\nExperience the forefront of the electric vehicle revolution. Dive into a world where innovation meets experience. Whether you’re a business leader\, an EV enthusiast\, or simply curious\, EVIS promises insights\, connections\, and firsthand experiences that are unparalleled in the industry. \nE-Vehicle Showcase\n\nDive into the realm of cutting-edge transportation. Witness the marvels of tomorrow\, today! Explore an array of latest e-vehicle models\, futuristic prototypes\, and get a firsthand look at the innovative technologies propelling the electric mobility revolution. Discover the future of transport\, now on display. \nInnovation at The Tech Park\n\n\n\nExplore a space dedicated to ingenuity. Here\, pioneering start-ups and insightful student minds present their innovations\, offering a comprehensive view of the ongoing developments in the electric vehicle sector. Observe various projects and prototypes that aim to contribute to the evolving world of sustainable mobility. \nEV Test Drive\n\nEngage in a hands-on driving experience with cutting-edge electric vehicles. Familiarize yourself with the advancements in EV technology by taking a test drive\, providing a closer understanding of the nuances and capabilities these vehicles bring to the road. \nNetworking\n\n\n\nEngage with industry specialists and glean insights into the nuances of EV technology. Our Networking Reception provides a platform for meaningful connections\, ensuring you depart EVIS with a holistic grasp of the newest trends and advancements in the field. \nReady to join EVIS 2024 as an Exhibitor/Visitor? Visit this page to register \nFor more EV related events\, visit ElectricBlue.Asia’s Events page
URL:https://electricblue.asia/event/evis-2024-ev-innovation-summit-abu-dhabi/
LOCATION:Abu Dhabi National Exhibition Centre\, Al Khaleej Al Arabi St - Al Rawdah - Capital Centre - Abu Dhabi - United Arab Emirates\, Abu Dhabi\, United Arab Emirates
CATEGORIES:Events,Exhibition
ATTACH;FMTTYPE=image/jpeg:https://electricblue.asia/wp-content/uploads/2024/04/EVIS-2024.jpeg
END:VEVENT
BEGIN:VEVENT
DTSTART;TZID=Asia/Bangkok:20240515T100000
DTEND;TZID=Asia/Bangkok:20240517T180000
DTSTAMP:20260426T101507
CREATED:20240123T152102Z
LAST-MODIFIED:20240123T152102Z
UID:14470-1715767200-1715968800@electricblue.asia
SUMMARY:Future Mobility Asia 2024
DESCRIPTION:Future Mobility Asia 2024\nFuture Mobility Asia is the region’s most comprehensive mobility platform showcasing the latest and\nfuture clean mobility concepts\, solutions\, technologies and innovations.\nReturning for the third edition in 2024\, this three-day exhibition and conference will offer OEMs\,\nmobility innovators\, after-market suppliers\, and technology solution providers the opportunity to unite\,\ncollaborate\, and spearhead the transition and transformation of mobility across Asia. \nOrganised by dmg events\, Future Mobility Asia 2024 will welcome over 21\,000 global mobility and energy\nprofessionals to the Queen Sirikit National Convention Center\, Bangkok (Thailand) from 15 – 17 May\n2024. The exhibition floor will host over 350 companies from more than 70 countries\, showcasing the\nvital role that the mobility sector has to play in meeting a responsible global energy transition and\nunlocking the potential of a decarbonised future. \nEvent Profile\nThe Exhibition \nPassenger and Commercial vehicle launches\, launches of new technologies\, product and innovation announcements\, on floor technology workshops\, start up showcases and more will combine seamlessly with the Future Mobility Asia Exhibition and Conference to create the regions central meeting point for leaders and innovators. \nThe Conference \nThe Future Mobility Asia Conferences will be a central meeting point for public and private sector leaders and innovators in the clean mobility sector. Delegates will have access to all facets of the event\, from technical conferences to ministerial keynotes and global CEO dialogues\, ensuring they can obtain the exclusive insights\, information and ideas needed to take their businesses to the next level. \nNetworking Events \nPolicy makers and CEO roundtables\, Channel partner meetings\, private pitching sessions with investors will be hosted to compliment the main event and conference to provide added direct and privatized business development opportunities. A host of partner and official networking events will be hosted every evenings to help build relationships further and celebrate the event. \nFind out more about Future Mobility Asia 2024 over here: \nRegister for your Visitor Pass: Future Mobility Asia 2024 Visitor Pass \nFor more EV related events\, visit ElectricBlue.Asia’s Events page. \n 
URL:https://electricblue.asia/event/future-mobility-asia-2024/
LOCATION:Queen Sirikit National Convention Centre\, 60 Ratchadaphisek Rd\, Khlong Toei\, Bangkok 10110\, Thailand\, Bangkok\, Bangkok\, 10110\, Thailand
CATEGORIES:Events,Exhibition
ATTACH;FMTTYPE=image/jpeg:https://electricblue.asia/wp-content/uploads/2024/01/Future-Mobility-Asia-2024-1.jpeg
END:VEVENT
BEGIN:VEVENT
DTSTART;TZID=Asia/Jakarta:20240515T100000
DTEND;TZID=Asia/Jakarta:20240517T180000
DTSTAMP:20260426T101507
CREATED:20231127T044310Z
LAST-MODIFIED:20231127T044311Z
UID:14161-1715767200-1715968800@electricblue.asia
SUMMARY:EV Indonesia 2024
DESCRIPTION:EV Indonesia 2024 is back with its 3rd edition\, and in a grander scale. The exhibition will held concurrently with INAPA 2024\, ASEAN’s largest trade show for the automotive industry. The show will be taking place from 15 – 17 May 2024 at Jakarta International Expo (JIExpo) Kemayoran\, Jakarta – Indonesia. EV Indonesia 2024 showcases the latest trends and technologies for electric vehicle manufacturing solutions including batteries\, electric power trains\, components\, IT systems\, materials\, equipment and services. This event is being held a year after GEM Indonesia hosted EV Indonesia 2023 \nThe Indonesian government is aggressively encouraging the national automotive industry to develop electric vehicles. The reason is  the trend of future vehicles steering towards the concept of saving energy and being environmentally friendly. The government will be subsidising the purchase of electric vehicles with the aim of reaching 2.5million EV users by 2025\, and reducing air pollution by 29% by 2030. \nBy 2035\, the Indonesian Ministry of Industry targets the production of one million four-wheeled or more and 3.22 million two-wheeled vehicles. This is a commitment from the government to reduce the carbon emissions and achieve the Net Zero Emission target by 2060. \nEV Indonesia 2023 is an exhibition that focuses on Electric  Vehicles\, Technologies\, Component and EV Manufacturing Solutions. It will also present opportunities to feature the latest trends and technologies for EV manufacturing solutions including battery\, electrical power trains\, components\, IT systems\, material\, equipment and services. The expo ensures that the right national and international players exhibit their technology and products to the right audience\, which are manufacturers\, owners\, operators\, consultants\, governments\, distributors\, traders\, and others related with the EV industry. \nExpected Exhibitors: 150 Exhibiting Companies \nExpected Visitors: 15\,000 Trade & Professional Exhibitors \nFloor Area: 25\,000 square metres \nAdmission is Free for visitors. \nSupported by: \n\nThe Ministry of Industry\, The Republic of Indonesia\nIndonesia Automotive Parts & Components Indonesia Association (GIAMM)\nAssociation of Indonesian Carrosserie Industries (ASKARINDO)\nIkatan Pengusaha Otobus Muda Indonesia (IPOMI)\nKomunitas Sepeda / Motor Listrik Indonesia (KOSMIK Indonesia)\nAssociation of Nickel Miners Indonesia (APNI)\n\nClick Here to Book a Stand at EV Indonesia 2024 \nContact for more info:\nMs. Paramitha Rahayu\ninfo@gem-indonesia.com\nPh: +62 21 54358118 \nFor more EV related events\, visit ElectricBlue.Asia’s Events page
URL:https://electricblue.asia/event/ev-indonesia-2024/
LOCATION:Jakarta International Expo (JIEXPO Kemayoran)\, RW.10\, East Pademangan\, Pademangan\, Central Jakarta City\, Jakarta 14410\, Indonesia\, North Jakarta\, Jakarta\, 14410\, Indonesia
CATEGORIES:Events,Exhibition
ATTACH;FMTTYPE=image/png:https://electricblue.asia/wp-content/uploads/2023/11/EV-Indonesia-2024.png
END:VEVENT
BEGIN:VEVENT
DTSTART;VALUE=DATE:20240430
DTEND;VALUE=DATE:20240505
DTSTAMP:20260426T101507
CREATED:20240319T125940Z
LAST-MODIFIED:20240319T130250Z
UID:14860-1714435200-1714867199@electricblue.asia
SUMMARY:Asiabike Jakarta 2024
DESCRIPTION:Asiabike Jakarta 2024\nAdding to a network of about 35 Mobility and Logistics trade fairs worldwide\, including 10 existing trade fairs in Asia\, Asiabike Jakarta 2024 is Messe Frankfurt’s first trade fair in Asia focused exclusively on two-wheelers – a topic of increasing importance to the company. \nIn alignment with the global trend towards small-scale mobility\, Asiabike Jakarta will also promote micro mobility solutions as an integral part of sustainable urban transportation. This includes new\, eco-friendly ways for people to navigate cities individually. Electrically-powered scooters\, and other compact vehicles\, often combined with sharing systems and public transport\, for example\, are forming a fast-growing alternative to car usage. \nMaking its debut in April 2024\, the fair is expected to attract 150 companies to showcase their latest products across an exhibition area of 8\,200 sqm. Encompassing a wide range of offerings\, the show will feature traditional bicycles\, electric bicycles and scooters\, electric motorcycles\, and related sectors including batteries\, charging stations\, parts and equipment\, fashion and accessories. \nVisitors will include manufacturers\, wholesalers\, distributors\, dealers\, retailers\, importers\, exporters\, agents\, traders\, engineers\, leasing companies\, facilities and equipment management\, finance and insurance professionals\, clubhouse representatives\, government departments\, industry associations and cycling enthusiasts. \nWhile Messe Frankfurt has a strong presence in Asia with nearly 50 trade fairs\, the new exhibition marks the company’s first venture in Indonesia which will build on the enormous success of the flagship trade fair Eurobike in Frankfurt. “With the world’s fourth-largest population of over 278 million and increasing consumer spending power\, Indonesia presents an ideal location for this expansion\,” says Mr Wolfgang Marzin\, President and Chief Executive Officer of Messe Frankfurt.. “It shows that despite the uncertain economic environment\, we continue to identify exciting markets in need of new trade fair concepts globally.” \nIndonesia’s economy has remained resilient amidst the global economic slowdown\, with its GDP projected to reach 5% in 2023. This\, coupled with the country’s commitment to net-zero emissions by 2060 make it an attractive market for sustainability-focused trade fairs such as Asiabike Jakarta. At the same time\, the government is actively incentivising electric and hybrid vehicle adoption\, while the country’s membership of RCEP – the world’s largest free trade agreement – provides fertile ground for further investment and regional trade. \nAdmission for Asiabike Jakarta 2024\nPre-Register Now!\nEnjoy hassle-free queuing at the fairground! \nStep 1: Complete and submit the online registration form\nStep 2: Presenting the pre-registration code and your business card at the registration counter onsite to redeem a free admission badge. \nFor exhibitors\, if you are interested in applying for a booth at Asiabike Jakarta 2024\, access this link to register your interest. \nFor more EV related events\, visit ElectricBlue.Asia’s Events page.
URL:https://electricblue.asia/event/asiabike-jakarta-2024/
LOCATION:Jakarta International Expo (JIEXPO Kemayoran)\, RW.10\, East Pademangan\, Pademangan\, Central Jakarta City\, Jakarta 14410\, Indonesia\, North Jakarta\, Jakarta\, 14410\, Indonesia
CATEGORIES:Events,Exhibition
ATTACH;FMTTYPE=image/jpeg:https://electricblue.asia/wp-content/uploads/2024/03/abj24_banner_600x300_v2.jpg
ORGANIZER;CN="Messe Frankfurt (HK) Ltd":MAILTO:info@hongkong.messefrankfurt.com
END:VEVENT
BEGIN:VEVENT
DTSTART;TZID=Asia/Shanghai:20240425T080000
DTEND;TZID=Asia/Shanghai:20240504T170000
DTSTAMP:20260426T101507
CREATED:20240422T054943Z
LAST-MODIFIED:20240422T054943Z
UID:15195-1714032000-1714842000@electricblue.asia
SUMMARY:Auto China 2024
DESCRIPTION:Auto China 2024 show will be held from April 25-May 4\, with media days from April 25-26 and public days from April 27-May 4. \nThere will be two venues — China International Exhibition Center Shunyi New Venue and China International Exhibition Center Chaoyang Hall. \nThe Shunyi venue mainly showcases passenger cars\, commercial vehicles and some technology companies and media related to the automotive industry. \nIn the Shunyi exhibition area\, April 25-26 are media days\, April 27-28 are professional visitor days\, and April 29-May 4 are the general public days. \nExcept for May 4\, the visiting hours of the professional visitor days and general public days are from 10:00-18:00\, and the visiting hours of May 4 are from 10:00-16:00. \nThe Chaoyang venue mainly displays components\, automotive equipment and related products for three days from April 25-27. Visiting hours are 9:00-17:00 on April 25-26 and 9:00-15:00 on April 27. \nThe two venues have a total area of 220\,000 square meters and will feature 278 new energy vehicle (NEV) models\, according to information released by the event’s organizers. \nThe show will see the global debut of 117 models\, including 30 from multinational automakers. The event will also feature 41 concept cars. \nExhibitors include traditional brands like BMW\, Mercedes-Benz\, Audi and Volkswagen\, as well as new car brands like Nio\, Xpeng and Xiaomi. \nEstablished in year 1990\, Beijing International Automotive Exhibition\, also known as Auto China\, has been successfully held for 16 consecutive editions. Being held every two years in Beijing\, Auto China has been well recognized as one of the most important automotive fairs in the world. Auto China 2022 was unable to take place due to the pandemic. The past shows have received significant attention and participation from renowned domestic and international automobile and component manufacturers\, as well as various sectors of society\, enjoying a high level of professionalism and authority within the industry. \nAuto China has won global recognition in many aspects\, including the fair scale\, number of exhibitors and visitors\, media’s participation\, etc. Auto China is devoted to develop as one of the most valuable and influential exhibitions for both OE and Aftermarket in China. \nNIO lineup at Auto China 2024\nThe 2024 ET5 and the 2024 ES7 in China will debut\, while the 2024 ET7\, its smart premium electric executive sedan\, will be launched in China at the auto show. \nThe 2024 ET7\, designed for business mobility\, comes with upgraded computing\, including an all-around upgrade in cabin intelligence and smart driving capabilities. \nThe AI-empowered vehicle handling and stability will showcase China’s outstanding capabilities in advanced intelligent manufacturing\, the firm says. \nNio will also display the 12 full-stack technologies including Smart Power\, Smart Manufacturing\, and Chip and Smart Hardware as well as the Nio Power Swap Station and the 640 kW ultra-fast liquid-cooled charger at the stand. \n\n\nOverview of Honda BEV exhibits\n\n\n\n\n\nHonda will exhibit a wide variety of electrified models at the 18th Beijing International Automotive Exhibition (Auto China 2024)\, including next-generation EV models\, namely the Ye P7\, the Ye S7 and the Ye GT CONCEPT unveiled today\, as well as the e:NP2 and the e:NS2\, the second set of e:N series models and multiple plug-in hybrid models. \nVisitor preregistration for the event can be made over here \nFor more EV related events\, visit ElectricBlue.Asia’s Events page.
URL:https://electricblue.asia/event/auto-china-2024/
LOCATION:China International Exhibition Center Shunyi New Venue\, China\, Bei Jing Shi\, Shunyi District\, 裕翔路88号 邮政编码: 101312\, Beijing\, 101312\, China
CATEGORIES:Events,Exhibition
ATTACH;FMTTYPE=image/jpeg:https://electricblue.asia/wp-content/uploads/2024/04/Auto-China-2024-1.jpeg
END:VEVENT
END:VCALENDAR