BEGIN:VCALENDAR
VERSION:2.0
PRODID:-//ElectricBlue.Asia - ECPv6.15.17.1//NONSGML v1.0//EN
CALSCALE:GREGORIAN
METHOD:PUBLISH
X-ORIGINAL-URL:https://electricblue.asia
X-WR-CALDESC:Events for ElectricBlue.Asia
REFRESH-INTERVAL;VALUE=DURATION:PT1H
X-Robots-Tag:noindex
X-PUBLISHED-TTL:PT1H
BEGIN:VTIMEZONE
TZID:Asia/Shanghai
BEGIN:STANDARD
TZOFFSETFROM:+0800
TZOFFSETTO:+0800
TZNAME:CST
DTSTART:20250101T000000
END:STANDARD
END:VTIMEZONE
BEGIN:VEVENT
DTSTART;TZID=Asia/Shanghai:20260413T093000
DTEND;TZID=Asia/Shanghai:20260415T170000
DTSTAMP:20260424T075844
CREATED:20260127T060707Z
LAST-MODIFIED:20260127T060708Z
UID:16787-1776072600-1776272400@electricblue.asia
SUMMARY:AMR 2026 - Auto Maintenance and Repair Expo
DESCRIPTION:AMR 2026: Event Overview\nFollowing the success of its landmark 2025 edition\, AMR 2026 returns with expanded scale\, broader international participation\, and enhanced business-driven experiences for industry professionals. \nThe previous show in 2025 attracted 48\,661 trade visitors from 57 countries and regions\, confirming its status as a truly global meeting point. Both visitor attendance and international representation recorded strong growth compared to earlier editions\, highlighting rising global interest and confidence in the platform. \nA total of 1\,186 exhibitors took part\, representing a 12% increase year-on-year. The exhibition floor featured a comprehensive cross-section of manufacturers\, suppliers\, and solution providers\, creating a dynamic environment for sourcing\, collaboration\, and partnership building. \nCovering 80\,000 square metres across four exhibition halls\, the event delivered a large-scale yet well-structured experience. The expansive venue supported product showcases\, technology demonstrations\, and face-to-face meetings\, allowing attendees to engage efficiently with key players across the industry. \nBeyond the exhibition\, the programme included 39 concurrent conferences\, forums\, and technical sessions. These events provided valuable insights into market developments\, innovation trends\, and future strategies\, positioning the show as both a commercial and knowledge-sharing hub. \nBusiness matching remained a major highlight\, with more than 100 professional buyer groups attending from China and international markets. These curated groups enabled targeted networking opportunities\, helping exhibitors connect with qualified buyers and drive meaningful commercial outcomes. \nWith its strong track record\, international reach\, and integrated exhibition and conference format\, the event continues to be a strategic platform for companies seeking market expansion\, industry visibility\, and long-term growth in 2026. \nAs China’s automotive ecosystem accelerates towards a cleaner\, smarter\, and more connected future\, Auto Maintenance and Repair Expo (AMR) 2026 returns as a vital platform for industry transformation. Driven by the rapid adoption of new energy vehicles (NEVs)\, intelligent connectivity\, and smart mobility technologies\, the aftermarket and road transport equipment sectors are undergoing a fundamental shift in business models\, service delivery\, and supply chain integration. \nAMR 2026 will showcase cutting-edge technologies and solutions that respond directly to these market changes. From digital inspection systems and intelligent repair tools to low-carbon logistics and smart transport equipment\, the exhibition highlights how innovation is reshaping vehicle maintenance\, repair\, and transportation across China and the wider Asia-Pacific region. \nAMR 2026: Spotlight on New Energy Vehicle Maintenance and Repair\nThe surge in NEV ownership has had a profound impact on China’s automotive aftermarket\, with new energy vehicles accounting for over 10 percent of all vehicles on the road as of mid-2025. This rapid growth has created strong demand for specialised services such as battery inspection\, electrical control diagnostics\, safety performance testing\, and battery recycling. \nAMR 2026 will feature a comprehensive range of NEV-focused maintenance and repair solutions designed to improve efficiency\, safety\, and service quality. The show provides a collaborative platform for manufacturers\, service providers\, and supply chain stakeholders to connect\, exchange expertise\, and explore new business opportunities in this fast-evolving segment. \nAt the same time\, traditional repair and maintenance businesses continue to evolve through advanced digitalisation. Exhibitors will present innovations including automated wheel hub repair systems\, high-performance electric tools\, precision spray equipment\, and intelligent diagnostic platforms aimed at helping workshops enhance productivity and profitability. \nAMR 2026: Driving Growth in Commercial Vehicles and Smart Logistics\nThe Commercial Vehicles & Road Transport Equipment Zone will once again be a major highlight of AMR 2026. This dedicated area focuses on intelligent connectivity\, smart logistics\, vehicle-to-infrastructure communication\, and low-carbon transportation solutions. \nVisitors can expect to see advanced commercial vehicle models\, smart driving simulation systems\, cargo fastening solutions\, unmanned delivery vehicles\, and integrated transport technologies designed to improve efficiency across the logistics value chain. The zone emphasises systematic integration between drivers\, vehicles\, cargo\, and infrastructure\, reflecting the industry’s shift towards smarter and more sustainable transport ecosystems. \nConcurrent events will include professional driver skills competitions and live demonstrations of intelligent simulation equipment used in training and safety management. These interactive experiences allow participants to gain hands-on insights while fostering collaboration between logistics providers\, transport operators\, and technology suppliers. \nIn parallel\, the Parts & Components sector will highlight essential commercial vehicle parts and systems\, supporting maintenance\, performance upgrades\, and energy efficiency. Together\, these sectors create a dynamic hub for cross-industry cooperation and supply chain development. \nCustomisation\, Culture\, and the Next Generation of Car Owners\nAs younger consumers become the dominant force in the automotive market\, personalisation and automotive culture are playing an increasingly important role. AMR 2026 responds to this trend through its Accessories & Customising sector\, which will feature off-road vehicles\, pick-up truck customisation kits\, auto detailing products\, rescue equipment\, and a wide range of interior and exterior accessories. \nReflecting evolving consumer preferences\, the exhibition will also host the National Creative Film Application Skills Competition\, combining skills training\, live demonstrations\, and competitive showcases. These activities help aftermarket service providers and product suppliers connect with distributors and end-users while exploring new cultural and lifestyle-driven market opportunities. \nSupporting Global Expansion and Cross-Border Collaboration\nAs one of the leading automotive aftermarket exhibitions in the Asia-Pacific region\, AMR 2026 plays a key role in facilitating international business development. The show attracts overseas buyers from regions including Southeast Asia\, the Middle East\, Africa\, Central Asia\, and South America\, supporting domestic companies seeking cross-border partnerships. \nThrough targeted buyer programmes\, overseas media outreach\, and a strong global network\, AMR continues to expand its international reach. A series of forums and discussions will also provide valuable insights into regional market expansion and global growth strategies. \nAuto Maintenance and Repair Expo (AMR) is co-organised by China Automotive Maintenance Equipment Industry Association (CAMEIA)\, China Automotive Maintenance and Repair Association (CAMRA)\, Messe Frankfurt (Shanghai) Co Ltd\, and China National Machinery Industry International Co Ltd (Sinomachint). The exhibition is part of Messe Frankfurt’s global Mobility and Logistics portfolio\, which includes around 40 events worldwide. \nFor more information\, please contact Messe Frankfurt (Shanghai) Co Ltd at +86 400 613 8585\, visit the official AMR website\, or email the organiser directly. \nFor more Auto and EV events\, visit ElectricBlue.Asia’s Events page.
URL:https://electricblue.asia/event/amr-2026-auto-maintenance-and-repair-expo/
LOCATION:Beijing New International Exhibition Center Phase II\, No. 88 Yuxiang Road\, Tianzhu\, Shunyi District\, Beijing 101302\, China.\, Tianzhu\, Beijing\, 101302\, China
CATEGORIES:Events,Exhibition
ATTACH;FMTTYPE=image/jpeg:https://electricblue.asia/wp-content/uploads/2026/01/AMR-2026.jpg
ORGANIZER;CN="Messe Frankfurt (HK) Ltd":MAILTO:info@hongkong.messefrankfurt.com
END:VEVENT
END:VCALENDAR