BEGIN:VCALENDAR
VERSION:2.0
PRODID:-//ElectricBlue.Asia - ECPv6.15.17.1//NONSGML v1.0//EN
CALSCALE:GREGORIAN
METHOD:PUBLISH
X-WR-CALNAME:ElectricBlue.Asia
X-ORIGINAL-URL:https://electricblue.asia
X-WR-CALDESC:Events for ElectricBlue.Asia
REFRESH-INTERVAL;VALUE=DURATION:PT1H
X-Robots-Tag:noindex
X-PUBLISHED-TTL:PT1H
BEGIN:VTIMEZONE
TZID:Asia/Manila
BEGIN:STANDARD
TZOFFSETFROM:+0800
TZOFFSETTO:+0800
TZNAME:PST
DTSTART:20250101T000000
END:STANDARD
END:VTIMEZONE
BEGIN:VEVENT
DTSTART;TZID=Asia/Manila:20260409T100000
DTEND;TZID=Asia/Manila:20260412T210000
DTSTAMP:20260425T223344
CREATED:20260206T124552Z
LAST-MODIFIED:20260206T124842Z
UID:16799-1775728800-1776027600@electricblue.asia
SUMMARY:Manila International Auto Show 2026
DESCRIPTION:The drive towards mobility starts now! Following the successful celebration of its 20th anniversary\, Worldbex Services International (WSI)\, the organizer of the Manila International Auto Show 2026 (MIAS)\, proudly announces the return of MIAS this coming April 9 to 12\, 2026\, at the World Trade Center Metro Manila\, from 10 AM to 9 PM. Once again\, the country’s premier automotive event will take center stage\, bringing together leading automotive brands and placing innovation\, performance\, and mobility in the spotlight. \nFor over two decades\, MIAS has continuously showcased the best of the automotive industry\, underscoring its vital role in shaping modern society. Central to this progress is the industry’s unwavering commitment to mobility\, constantly pushing boundaries through innovation\, technology\, and design. With the 2026 theme being “Powering Mobility”\, MIAS honors this forward driven movement by celebrating the advancements that continue to propel the industry into the future. \nManila International Auto Show 2026\nRecognized as the leading automotive event in the Philippines\, MIAS marked a milestone during its 20th anniversary in 2025\, attracting over 170\,900 visitors. The event featured more than 145 exhibitors across 33\,000 sqm of exhibit space and showcased over 310 cars\, trucks\, and motorcycles throughout the weekend. Building on this momentum\, WSI aims to elevate the MIAS experience in 2026 by delivering a larger platform\, bolder showcases\, and even more memorable moments for both industry stakeholders and automotive enthusiasts. \nThe main highlight of MIAS 2026 is the Mobility Marathon\, a dynamic series of vehicle launches where participating brands will unveil their latest models and technological innovations to the public for the first time. Visitors will also have the opportunity to experience these vehicles firsthand at the Test Drive Avenue. Additional attractions include the Truck Zone\, featuring trucks of all sizes; the Die-Cast Car Collection\, showcasing rare and distinctive collectible die-cast models; and the Car Club Display\, where passionate automotive communities from across the Philippines present their prized vehicles. \nA Showcase of the Future of Mobility\nMIAS 2026 is expected to feature a diverse mix of passenger vehicles\, SUVs\, electric vehicles (EVs)\, hybrids\, motorcycles\, and commercial vehicles. As electrification gains momentum across the region\, visitors can look forward to a strong focus on EV technology\, charging infrastructure\, and sustainable mobility solutions. \nLeading automotive brands typically use MIAS as a launchpad for new models and regional debuts\, offering attendees an exclusive first look at upcoming vehicles before they hit the market. Concept cars and advanced driver-assistance technologies are also expected to take centre stage\, highlighting how mobility in the Philippines is evolving. \nMore Than Just an Auto Show\nWhat sets the Manila International Auto Show apart is its immersive experience. Beyond vehicle displays\, MIAS 2026 is expected to include: \n\n\nInteractive brand activations and test drives \n\n\nCar modification and tuning showcases \n\n\nMotorsport and performance vehicle displays \n\n\nAutomotive accessories and aftermarket solutions \n\n\nIndustry talks and technology presentations \n\n\nCar enthusiasts\, families\, and first-time buyers alike will find something to enjoy\, making MIAS a well-rounded lifestyle and automotive event rather than a trade show alone. \nOpportunities for Industry Players\nFor exhibitors\, MIAS 2026 offers direct access to one of Southeast Asia’s fastest-growing automotive markets. The show provides valuable exposure to buyers\, dealers\, distributors\, fleet operators\, and media\, making it an important date on the regional automotive calendar. \nAutomotive startups\, EV solution providers\, and technology companies are also expected to gain increased visibility\, reflecting the industry’s shift toward innovation\, sustainability\, and digitalisation. \nWhy Attend Manila International Auto Show 2026?\nWhether you’re an automotive professional\, a technology enthusiast\, or simply passionate about cars\, MIAS 2026 offers a comprehensive look at where the industry is headed. From cutting-edge electric vehicles to high-performance builds and everyday mobility solutions\, the event captures the full spectrum of modern automotive culture in the Philippines. \nAs anticipation builds\, the Manila International Auto Show 2026 is shaping up to be a must-visit event for anyone looking to experience the future of mobility in Southeast Asia. \nTo further energize the event\, MIAS will once again host signature competitions such as the MIAS Petron Custom and Classic Car Competition\, in partnership with Petron\, celebrating outstanding classic and customized vehicles across various categories. The event will also feature Ms. MIAS\, a pageant highlighting representatives from participating automotive brands to showcase their beauty and grace. \nWith innovation\, mobility\, and passion at its core\, the Manila International Auto Show 2026 is set to drive the automotive industry forward—bringing the future of mobility closer to the public than ever before. MIAS 2026 is happening from April 9 to 12\, 2026\, at the World Trade Center Metro Manila. You can get your tickets now at https://manilaautoshow.com/ \nMIAS 2026 is an event organized by Worldbex Services International\, and is for the benefit of the ABS-CBN Foundation Inc. \nFor more auto events\, visit ElectricBlue.Asia’s Events page.
URL:https://electricblue.asia/event/manila-international-auto-show-2026/
LOCATION:World Trade Center Metro Manila\, 2/F WTCMM Building\,Pasay Extension corner\, 1300 Sen. Gil J. Puyat Ave\, Pasay\, Metro Manila\, Philippines\, Pasay\, Metro Manila\, 1300\, Philippines
CATEGORIES:Events,Exhibition
ATTACH;FMTTYPE=image/jpeg:https://electricblue.asia/wp-content/uploads/2026/02/Manila-International-Auto-Show-2026-1-1.jpg
END:VEVENT
END:VCALENDAR