BEGIN:VCALENDAR
VERSION:2.0
PRODID:-//ElectricBlue.Asia - ECPv6.15.17.1//NONSGML v1.0//EN
CALSCALE:GREGORIAN
METHOD:PUBLISH
X-ORIGINAL-URL:https://electricblue.asia
X-WR-CALDESC:Events for ElectricBlue.Asia
REFRESH-INTERVAL;VALUE=DURATION:PT1H
X-Robots-Tag:noindex
X-PUBLISHED-TTL:PT1H
BEGIN:VTIMEZONE
TZID:Asia/Bangkok
BEGIN:STANDARD
TZOFFSETFROM:+0700
TZOFFSETTO:+0700
TZNAME:+07
DTSTART:20250101T000000
END:STANDARD
END:VTIMEZONE
BEGIN:VEVENT
DTSTART;TZID=Asia/Bangkok:20260212T090000
DTEND;TZID=Asia/Bangkok:20260215T170000
DTSTAMP:20260424T105541
CREATED:20251210T105244Z
LAST-MODIFIED:20251210T105244Z
UID:16783-1770886800-1771174800@electricblue.asia
SUMMARY:Bangkok EV Expo 2026
DESCRIPTION:Bangkok EV Expo 2026 — Driving Southeast Asia’s Electric Future\nThe Bangkok EV Expo 2026 is set to return as one of Southeast Asia’s most anticipated automotive technology events\, bringing together the region’s fastest-growing electric mobility ecosystem under one roof. Hosted in the vibrant heart of Thailand’s capital\, the show has become a meeting point for manufacturers\, innovators\, policymakers\, investors\, and everyday drivers who are shaping the future of transportation across Asia. \nOver several dynamic days\, visitors can expect a showcase that spans the full spectrum of electric mobility. Leading global automakers will present their latest electric vehicles\, from compact urban commuters and family SUVs to luxury flagships and performance models. Alongside the major brands\, emerging EV startups from Asia and beyond will highlight breakthrough vehicle concepts and next-generation designs that hint at where clean mobility is headed over the coming decade. \nBut the Bangkok EV Expo is more than a vehicle exhibition. A dedicated technology and infrastructure zone will spotlight batteries\, charging systems\, power electronics\, energy storage solutions\, and smart-grid innovations. Visitors will see real-world demonstrations of fast-charging equipment\, wireless charging platforms\, and solar-integrated charging stations designed to support expanding EV adoption across major cities and developing markets alike. \nAnother key attraction is the mobility innovation area\, where micromobility solutions such as electric scooters\, bicycles\, delivery vehicles\, and lightweight transport platforms are front and center. As urban congestion continues to challenge Southeast Asian cities\, these practical alternatives are gaining traction\, and the show provides an ideal platform to explore their growing role in everyday transportation. \nIndustry professionals will benefit from a full conference program running alongside the exhibition. Expert panels and keynote sessions will cover topics ranging from EV market growth in Southeast Asia and battery supply chain development to software-defined vehicles\, autonomous driving readiness\, and government incentive frameworks. Regional policymakers and international experts will share insights into how public-private cooperation is accelerating charging network expansion and driving cross-border EV manufacturing investment throughout ASEAN. \nFor businesses\, the Bangkok EV Expo 2026 offers extensive networking opportunities. Buyer-hosted sessions\, supplier matchmaking lounges\, and private meeting suites create direct connections between component manufacturers\, mobility service providers\, fleet operators\, distributors\, and venture partners. The event has earned a reputation as a high-value sourcing destination\, particularly for companies exploring partnerships in vehicle assembly\, powertrain components\, battery sourcing\, or last-mile delivery solutions. \nPublic visitors are equally well catered for. Interactive test-drive zones allow attendees to experience the latest EV models first-hand in controlled environments\, while simulator stations provide a glimpse into future driver-assistance and semi-autonomous technologies. Interactive learning areas explain battery recycling processes\, energy efficiency strategies\, and home charging solutions in easy-to-understand formats for new EV owners. \nFamilies and younger visitors will enjoy educational STEM showcases designed to inspire interest in engineering and sustainable technology. Workshops demonstrate how electric motors work\, how renewable energy integrates with EV charging\, and how mobility innovation can contribute directly to cleaner urban living. \nAs Thailand positions itself as a regional EV manufacturing and technology hub\, the Bangkok EV Expo 2026 stands as a clear reflection of that ambition. The event not only displays products but tells the broader story of Southeast Asia’s transition toward electrified transport—one that balances economic growth\, technological innovation\, and environmental responsibility. \nWhether you’re an automotive professional\, clean-tech investor\, government representative\, or simply curious about what the next generation of transportation looks like\, Bangkok EV Expo 2026 provides a comprehensive\, inspiring\, and hands-on view of the electric mobility revolution taking place across Asia. \nFor more information\, visit the official Facebook page \nFor more EV related events\, visit ElectricBlue.Asia’s Events page.
URL:https://electricblue.asia/event/bangkok-ev-expo-2026/
LOCATION:Queen Sirikit National Convention Centre\, 60 Ratchadaphisek Rd\, Khlong Toei\, Bangkok 10110\, Thailand\, Bangkok\, Bangkok\, 10110\, Thailand
CATEGORIES:Events,Exhibition
ATTACH;FMTTYPE=image/jpeg:https://electricblue.asia/wp-content/uploads/2025/12/Bangkok-EV-Expo-2026.jpg
END:VEVENT
END:VCALENDAR