BEGIN:VCALENDAR
VERSION:2.0
PRODID:-//ElectricBlue.Asia - ECPv6.15.17.1//NONSGML v1.0//EN
CALSCALE:GREGORIAN
METHOD:PUBLISH
X-ORIGINAL-URL:https://electricblue.asia
X-WR-CALDESC:Events for ElectricBlue.Asia
REFRESH-INTERVAL;VALUE=DURATION:PT1H
X-Robots-Tag:noindex
X-PUBLISHED-TTL:PT1H
BEGIN:VTIMEZONE
TZID:Europe/Brussels
BEGIN:DAYLIGHT
TZOFFSETFROM:+0100
TZOFFSETTO:+0200
TZNAME:CEST
DTSTART:20250330T010000
END:DAYLIGHT
BEGIN:STANDARD
TZOFFSETFROM:+0200
TZOFFSETTO:+0100
TZNAME:CET
DTSTART:20251026T010000
END:STANDARD
BEGIN:DAYLIGHT
TZOFFSETFROM:+0100
TZOFFSETTO:+0200
TZNAME:CEST
DTSTART:20260329T010000
END:DAYLIGHT
BEGIN:STANDARD
TZOFFSETFROM:+0200
TZOFFSETTO:+0100
TZNAME:CET
DTSTART:20261025T010000
END:STANDARD
BEGIN:DAYLIGHT
TZOFFSETFROM:+0100
TZOFFSETTO:+0200
TZNAME:CEST
DTSTART:20270328T010000
END:DAYLIGHT
BEGIN:STANDARD
TZOFFSETFROM:+0200
TZOFFSETTO:+0100
TZNAME:CET
DTSTART:20271031T010000
END:STANDARD
END:VTIMEZONE
BEGIN:VEVENT
DTSTART;TZID=Europe/Brussels:20260109T100000
DTEND;TZID=Europe/Brussels:20260118T170000
DTSTAMP:20260424T123048
CREATED:20251208T095101Z
LAST-MODIFIED:20251208T095101Z
UID:16772-1767952800-1768755600@electricblue.asia
SUMMARY:Brussels Motor Show 2026
DESCRIPTION:The Brussels Motor Show 2026 is set to welcome automotive enthusiasts\, industry professionals\, and everyday drivers back to the heart of Belgium for one of Europe’s most anticipated vehicle exhibitions. Taking place at the iconic Brussels Expo\, this long-running event continues to stand as the first major automotive showcase of the year\, revealing what lies ahead for the global mobility scene. \nRenowned for its mix of major debuts\, accessible family appeal\, and genuine European character\, the Brussels Motor Show offers visitors a front-row view of the latest breakthroughs shaping transportation. Across multiple exhibition halls\, leading manufacturers will unveil newly launched models\, next-generation EVs\, concept cars\, advanced driver-assistance technologies\, and alternative-fuel vehicles. With sustainability rapidly becoming central to automotive design\, the 2026 edition will place a strong spotlight on electrification\, battery innovation\, and low-emission mobility solutions. \nElectric vehicle enthusiasts can expect an impressive presence from both established brands and emerging players. From compact urban EVs built for city commuting to luxury electric sedans and rugged electric SUVs\, the diversity of vehicles on display reflects the growing maturity of the clean mobility market. Charging infrastructure developers and mobility service providers will also exhibit alongside carmakers\, creating a complete overview of the evolving electric ecosystem in Europe. \nWhat sets the Brussels Motor Show apart is its welcoming atmosphere. Unlike exclusive industry-only exhibitions\, this is a public-focused event designed to invite car lovers of all backgrounds to explore\, interact\, and compare. Many stands offer access to vehicle interiors\, hands-on technology demonstrations\, and one-on-one discussions with product specialists. Family zones\, lifestyle showcases\, and motorsport heritage displays ensure the experience remains engaging for visitors of all ages. \nLive unveilings and press presentations are a daily highlight during the show’s opening days\, with manufacturers using Brussels as their first major platform of the year to announce new releases and production updates. For visitors attending later in the week\, the event transitions into an immersive showroom experience\, ideal for test seating\, model comparisons\, and discovering upcoming releases before they reach local dealerships. \nBeyond the vehicles themselves\, the 2026 show will host discussions and brief presentations addressing key automotive themes\, including Europe’s EV adoption targets\, charging infrastructure rollout\, battery recycling\, and the evolution of connected and autonomous driving technologies. These sessions add insight to what visitors see on the show floor\, bridging the gap between innovation and everyday driving realities. \nSet against Brussels’ vibrant winter backdrop\, the show also offers the perfect opportunity to combine automotive discovery with cultural sightseeing. From historic landmarks and local cuisine to world-famous chocolate shops and cafés\, the city provides a memorable experience beyond the exhibition halls. \nFor readers of ElectricBlue.Asia\, the Brussels Motor Show 2026 represents a must-visit destination to witness Europe’s electric mobility momentum firsthand. Whether you’re following the latest EV trends\, scouting future vehicle options\, or simply enjoying automotive culture\, this influential showcase delivers a comprehensive view of where mobility is heading next. \nPurchase your tickets for the Brussels Motor Show 2026 here. \nFor other auto & EV shows\, visit ElectricBlue.Asia’s Events page.
URL:https://electricblue.asia/event/brussels-motor-show-2026/
LOCATION:Brussels Expo\, Pl. de Belgique 1\, 1020 Bruxelles\, Belgium\, Bruxelles\, 1020\, Belgium
CATEGORIES:Events,Exhibition
ATTACH;FMTTYPE=image/png:https://electricblue.asia/wp-content/uploads/2025/12/Brussels-Motor-Show-2026-1.png
ORGANIZER;CN="FEBIAC":MAILTO:info@febiac.be
END:VEVENT
END:VCALENDAR