BEGIN:VCALENDAR
VERSION:2.0
PRODID:-//ElectricBlue.Asia - ECPv6.15.17.1//NONSGML v1.0//EN
CALSCALE:GREGORIAN
METHOD:PUBLISH
X-WR-CALNAME:ElectricBlue.Asia
X-ORIGINAL-URL:https://electricblue.asia
X-WR-CALDESC:Events for ElectricBlue.Asia
REFRESH-INTERVAL;VALUE=DURATION:PT1H
X-Robots-Tag:noindex
X-PUBLISHED-TTL:PT1H
BEGIN:VTIMEZONE
TZID:Asia/Singapore
BEGIN:STANDARD
TZOFFSETFROM:+0800
TZOFFSETTO:+0800
TZNAME:+08
DTSTART:20250101T000000
END:STANDARD
END:VTIMEZONE
BEGIN:VEVENT
DTSTART;TZID=Asia/Singapore:20260108T090000
DTEND;TZID=Asia/Singapore:20260111T170000
DTSTAMP:20260424T122744
CREATED:20251203T094714Z
LAST-MODIFIED:20251203T094714Z
UID:16757-1767862800-1768150800@electricblue.asia
SUMMARY:Singapore Motorshow 2026
DESCRIPTION:Singapore Motorshow 2026 – The Ultimate Automotive Experience\nDates: 8 – 11 January 2026Venue: Suntec Singapore Convention & Exhibition CentreLocation: Singapore \nThe Singapore Motorshow roars back into action this January\, delivering one of Southeast Asia’s most anticipated automotive showcases. Held at the iconic Suntec Singapore Convention & Exhibition Centre\, this four-day event brings together car enthusiasts\, prospective buyers\, industry professionals\, and families for an immersive celebration of mobility\, technology\, and design. \nAs Singapore’s largest annual automotive exhibition\, the Motorshow is widely recognised as the country’s premier platform for unveiling new models\, announcing regional launches\, and showcasing the future of transport. Attendees can expect a broad mix of global favourites and emerging marques\, presenting a full spectrum of vehicles — from compact city cars and family SUVs to luxury sedans\, commercial fleets\, and cutting-edge electric vehicles. Participating automotive brands include Audi\, Avatr\, BMW\, BYD\, Citroen\, Deepal\, Denza\, Dongfeng\, Forland\, GAC\, Honda\, Honda Bikes\, Hongqi\, Hyundai\, IM Motors\, Jaecoo\, Kia\, Leapmotor\, Lexus\, Maxus\, Mazda\, Mercedes Benz\, MG\, MINI\, NIO\, Nissan\, Omoda\, ORA\, Peugeot\, Proton e.MAS\, smart\, Subaru\, Suzuki\, Toyota\, Volvo\, Xpeng\, YangWang\, and Zeekr. \nWith electrification continuing to reshape the industry\, Singapore Motorshow 2026 places strong emphasis on hybrid and EV technology. Visitors will have the opportunity to explore next-generation battery innovations\, fast-charging solutions\, urban mobility concepts\, and smart driving systems designed to improve safety\, performance\, and sustainability. Interactive exhibits allow guests to get hands-on with new features\, making it easier than ever to understand how modern automotive technologies integrate into everyday driving. \nBeyond the cars themselves\, the motorshow offers a vibrant event atmosphere filled with live activations\, product demonstrations\, and exclusive promotions available only during the exhibition. Dealers and manufacturers frequently introduce limited-time purchase incentives\, making the show an ideal opportunity for buyers to compare models side-by-side\, talk directly with sales specialists\, and secure attractive deals on their next vehicle. \nMotorshow highlights also typically include lucky draw giveaways\, social media activations\, stage presentations\, and family-friendly entertainment that add energy to the experience. Whether you are attending with a serious purchasing goal or simply to enjoy a day surrounded by the latest automotive designs\, there is something on offer for every visitor. \nAccessibility remains a key strength of the Singapore Motorshow. Located in the heart of the city\, Suntec Singapore is easily reached by MRT\, public transport\, and nearby parking facilities. The spacious exhibition halls allow for comfortable browsing\, even during peak visitor hours\, ensuring a smooth and enjoyable experience for all. \nTickets are affordably priced\, with options for early preview access as well as general admission passes for the main show days. Children below a certain height are typically admitted free\, making this a great weekend activity for families interested in automotive culture and future technologies. Tickets for the General Public will be available via SISTIC at $10. Limited Preview tickets will be available on-site at Level 6\, at $20 starting from 2pm on 8 January 2026\, granting exclusive early access to the show. Tickets will be offered on a first-come\, first-served basis. Children under 1.2 meters will receive free entry. For the latest updates\, visit the official website at www.motorshow.com.sg \nSingapore Motorshow 2026 promises a dynamic blend of innovation\, entertainment\, and buying opportunities — a must-visit event for anyone passionate about cars or curious about how the future of transport is evolving. Whether you come to explore electric mobility\, admire stunning vehicle designs\, or secure the keys to your next ride\, this landmark automotive event should not be missed. \nFor more EV and Auto shows\, visit ElectricBlue.Asia’s Events page.
URL:https://electricblue.asia/event/singapore-motorshow-2026/
LOCATION:SUNTEC City\, Singapore\, 3 Temasek Blvd\, #1\, #327-328\, Singapore 038983\, Singapore\, 327328\, Singapore
CATEGORIES:Events,Exhibition
ATTACH;FMTTYPE=image/jpeg:https://electricblue.asia/wp-content/uploads/2025/12/Singapore-Motorshow-2026.jpg
END:VEVENT
END:VCALENDAR