BEGIN:VCALENDAR
VERSION:2.0
PRODID:-//ElectricBlue.Asia - ECPv6.15.17.1//NONSGML v1.0//EN
CALSCALE:GREGORIAN
METHOD:PUBLISH
X-ORIGINAL-URL:https://electricblue.asia
X-WR-CALDESC:Events for ElectricBlue.Asia
REFRESH-INTERVAL;VALUE=DURATION:PT1H
X-Robots-Tag:noindex
X-PUBLISHED-TTL:PT1H
BEGIN:VTIMEZONE
TZID:Asia/Dubai
BEGIN:STANDARD
TZOFFSETFROM:+0400
TZOFFSETTO:+0400
TZNAME:+04
DTSTART:20240101T000000
END:STANDARD
END:VTIMEZONE
BEGIN:VEVENT
DTSTART;TZID=Asia/Dubai:20251209T100000
DTEND;TZID=Asia/Dubai:20251211T180000
DTSTAMP:20260424T140453
CREATED:20251203T070830Z
LAST-MODIFIED:20251203T070830Z
UID:16751-1765274400-1765476000@electricblue.asia
SUMMARY:Automechanika Dubai 2025
DESCRIPTION:Automechanika Dubai 2025 – Where the Global Automotive Aftermarket Meets\nDate: 9–11 December 2025 \nTime: 10am to 6pm daily \nVenue: Dubai World Trade Centre\, Dubai\, UAE \nAutomechanika Dubai 2025 returns this December as the Middle East’s largest and most influential trade exhibition for the automotive aftermarket industry. Bringing together thousands of manufacturers\, distributors\, service providers\, and buyers from over 60 countries\, the event continues to be the region’s key meeting point for innovation\, business partnerships\, and industry insights. \nWith more than a decade of growth\, Automechanika Dubai has become the gateway connecting global suppliers to one of the world’s most dynamic automotive markets. Visitors can explore an extensive exhibitor showcase covering spare parts\, repair solutions\, accessories\, electronics\, car wash equipment\, tyres\, lubricants\, body & paint technologies\, and emerging mobility solutions. \nThe 2025 edition places a strong focus on future-forward technologies\, including electric vehicle support systems\, digital workshop tools\, sustainable materials\, smart logistics solutions\, and advancements in vehicle maintenance. Live product demonstrations\, hands-on workshops\, and technical presentations will give visitors real-world insights into what’s shaping the next phase of the aftermarket sector. \nBeyond the exhibition halls\, Automechanika Dubai 2025 offers a robust program of conferences and networking platforms. Industry leaders and expert speakers will address supply chain resilience\, regional manufacturing trends\, EV servicing challenges\, training for next-generation technicians\, and the increasing role of automation across workshops and distribution channels. Dedicated B2B matchmaking sessions will help delegates connect directly with decision-makers and sourcing partners. \nWhether you’re looking to expand into new markets\, discover technology upgrades\, strengthen distribution networks\, or stay current with global automotive trends\, Automechanika Dubai 2025 provides the industry access and insights needed to drive business forward. \n\nEvent Highlights\n\n\nGlobal manufacturers and aftermarket suppliers under one roof \n\n\nFuture mobility and EV servicing innovations \n\n\nLive equipment demonstrations and product launches \n\n\nTechnical workshops and training sessions \n\n\nExecutive Industry Summits and panel discussions \n\n\nB2B matchmaking and buyer networking programs \n\n\n\nRegister to visit Automechanika Dubai 2025\nWho Should Attend?\n\n\nWorkshop owners and service managers \n\n\nParts distributors\, importers\, and retailers \n\n\nFleet operators and logistics leaders \n\n\nAutomotive OEM and Tier 1 manufacturers \n\n\nEV infrastructure and technology providers \n\n\nTechnical training institutions \n\n\nRegional government and mobility authorities \n\n\n\nWhy Dubai?\nPositioned at the crossroads of Europe\, Asia\, and Africa\, Dubai offers unmatched connectivity for international automotive trade. With modern logistics infrastructure\, growing aftermarket demand\, and business-friendly regulations\, the city remains the ideal hub for forging global partnerships. \nFor more EV related events\, visit ElectricBlue.Asia’s Events page.
URL:https://electricblue.asia/event/automechanika-dubai-2025/
LOCATION:Dubai World Trade Centre\, Sheikh Zayed Rd - Trade Center Second - Dubai - United Arab Emirates\, Dubai\, United Arab Emirates
CATEGORIES:Events,Exhibition
ATTACH;FMTTYPE=image/jpeg:https://electricblue.asia/wp-content/uploads/2025/12/Automechanika-Dubai-2025.jpg
END:VEVENT
END:VCALENDAR