BEGIN:VCALENDAR
VERSION:2.0
PRODID:-//ElectricBlue.Asia - ECPv6.15.17.1//NONSGML v1.0//EN
CALSCALE:GREGORIAN
METHOD:PUBLISH
X-ORIGINAL-URL:https://electricblue.asia
X-WR-CALDESC:Events for ElectricBlue.Asia
REFRESH-INTERVAL;VALUE=DURATION:PT1H
X-Robots-Tag:noindex
X-PUBLISHED-TTL:PT1H
BEGIN:VTIMEZONE
TZID:Australia/Melbourne
BEGIN:STANDARD
TZOFFSETFROM:+1100
TZOFFSETTO:+1000
TZNAME:AEST
DTSTART:20240406T160000
END:STANDARD
BEGIN:DAYLIGHT
TZOFFSETFROM:+1000
TZOFFSETTO:+1100
TZNAME:AEDT
DTSTART:20241005T160000
END:DAYLIGHT
BEGIN:STANDARD
TZOFFSETFROM:+1100
TZOFFSETTO:+1000
TZNAME:AEST
DTSTART:20250405T160000
END:STANDARD
BEGIN:DAYLIGHT
TZOFFSETFROM:+1000
TZOFFSETTO:+1100
TZNAME:AEDT
DTSTART:20251004T160000
END:DAYLIGHT
BEGIN:STANDARD
TZOFFSETFROM:+1100
TZOFFSETTO:+1000
TZNAME:AEST
DTSTART:20260404T160000
END:STANDARD
BEGIN:DAYLIGHT
TZOFFSETFROM:+1000
TZOFFSETTO:+1100
TZNAME:AEDT
DTSTART:20261003T160000
END:DAYLIGHT
END:VTIMEZONE
BEGIN:VEVENT
DTSTART;TZID=Australia/Melbourne:20250627T090000
DTEND;TZID=Australia/Melbourne:20250629T160000
DTSTAMP:20260425T031244
CREATED:20241215T064507Z
LAST-MODIFIED:20241215T064507Z
UID:15838-1751014800-1751212800@electricblue.asia
SUMMARY:Melbourne EV AutoShow 2025
DESCRIPTION:Melbourne EV AutoShow 2025\nWelcome to the Melbourne International EV AutoShow 2025\, Australia’s largest consumer EV event. Over 3 days (27th – 29th June 2025)\, thousands of visitors come together to explore and engage with the latest unique offerings from OEMs\, gain exclusive insights from EV enthusiasts on our live stage\, and consult with the best financial and charging experts from across the country. \nWhether you’re in the market for an electric vehicle\, an automotive industry fanatic or just curious about the shift to renewable modes of mobility\, this one-of-a-kind event has something for everyone.\n‍\nDon’t miss the opportunity to get up close to the pioneering manufacturers\, suppliers and industry titans within the exciting space of EV technology. \n\n\nVIEW\nThe largest display of electric SUVs\, BEVs\, Plug-In Hybrids\, Utes and People Movers in Australia. \n\n\n\n\n\nEXPLORE\nThe latest cutting-edge technology\, tailored finance options and charging solutions to make your transition to electric as smooth and seamless as the driving itself! \n\n\n\n\n\nENGAGE\nIn test drives and unique activations from the world’s leading brands. \n\n\n\n\n\nLEARN\n\nFrom industry titans\, EV experts and influencers on our live stage sessions. \nEXHIBITION \nWitness the future of mobility at The Melbourne International EV AutoShow 2025\, Australia’s largest consumer EV event. Discover the inner workings of the EV world\, informed by an extensive list of global brands and Australian leaders at the forefront of the electric revolution.\n‍\nLooking to make the switch to electric? Explore tailored finance options and expert charging solutions specifically designed to help you save time\, effort and money and walk away with peace of mind when it comes to making the transition to an electric vehicle. \n\nLIVE SESSIONS \nTake an exclusive deep dive into the latest trends\, innovations\, and breakthroughs in the electric SUV market as pioneering industry experts and influencers take to the stage to inform\, inspire and engage at the Melbourne International EV AutoShow 2025. \nWith interactive displays\, family-friendly activities\, and expert sessions on a range EV topics\, you’ll discover valuable information and proven tips tailored to all levels of expertise\, experience and your individual goals. \nTEST DRIVES \nTake to the wheel in some of the most advanced EV’s from the world’s leading brands with our unique test drive activation! The immersive experience takes place on test drive courses that have been meticulously designed by experts to showcase the sheer agility and cutting-edge technology of the vehicles on display. \nPurchase your tickets for the Melbourne EV AutosShow 2025 over here \nFor more EV related Events\, visit ElectricBlue.Asia’s Events page \n 
URL:https://electricblue.asia/event/melbourne-ev-autoshow-2025/
LOCATION:Melbourne Convention and Exhibition Centre (MCEC)\, 1 Convention Centre Place\, South Wharf VIC 3006\, Australia\, Melbourne\, Victoria\, 3006\, Australia
CATEGORIES:Events,Exhibition,Motor Show
ATTACH;FMTTYPE=image/webp:https://electricblue.asia/wp-content/uploads/2024/12/Melboure-EV-AutoShow-2025.webp
ORGANIZER;CN="Future Drive AutoShows":MAILTO:info@futuredriveauto.au
END:VEVENT
END:VCALENDAR