BEGIN:VCALENDAR
VERSION:2.0
PRODID:-//ElectricBlue.Asia - ECPv6.15.17.1//NONSGML v1.0//EN
CALSCALE:GREGORIAN
METHOD:PUBLISH
X-ORIGINAL-URL:https://electricblue.asia
X-WR-CALDESC:Events for ElectricBlue.Asia
REFRESH-INTERVAL;VALUE=DURATION:PT1H
X-Robots-Tag:noindex
X-PUBLISHED-TTL:PT1H
BEGIN:VTIMEZONE
TZID:Europe/Madrid
BEGIN:DAYLIGHT
TZOFFSETFROM:+0100
TZOFFSETTO:+0200
TZNAME:CEST
DTSTART:20240331T010000
END:DAYLIGHT
BEGIN:STANDARD
TZOFFSETFROM:+0200
TZOFFSETTO:+0100
TZNAME:CET
DTSTART:20241027T010000
END:STANDARD
BEGIN:DAYLIGHT
TZOFFSETFROM:+0100
TZOFFSETTO:+0200
TZNAME:CEST
DTSTART:20250330T010000
END:DAYLIGHT
BEGIN:STANDARD
TZOFFSETFROM:+0200
TZOFFSETTO:+0100
TZNAME:CET
DTSTART:20251026T010000
END:STANDARD
BEGIN:DAYLIGHT
TZOFFSETFROM:+0100
TZOFFSETTO:+0200
TZNAME:CEST
DTSTART:20260329T010000
END:DAYLIGHT
BEGIN:STANDARD
TZOFFSETFROM:+0200
TZOFFSETTO:+0100
TZNAME:CET
DTSTART:20261025T010000
END:STANDARD
END:VTIMEZONE
BEGIN:VEVENT
DTSTART;VALUE=DATE:20250617
DTEND;VALUE=DATE:20250619
DTSTAMP:20260425T050637
CREATED:20250216T050444Z
LAST-MODIFIED:20250216T050444Z
UID:16066-1750118400-1750291199@electricblue.asia
SUMMARY:Euro EV Show 2025
DESCRIPTION:Euro EV Show 2025\nThe leading event for the electric vehicles\, to connect\, innovate\, and seize opportunities in Europe’s booming EV landscape\nThe Euro EV Show 2025\, part of Valiant Business Media’s global EV Show series and supported by the Madrid Convention Bureau and Madrid Destino is set to be the largest gathering of the global electric vehicle industry value chain\, celebrating Europe’s electric vehicle boom. Scheduled for June 17-18\, 2025\, at La Nave\, Madrid\, the event aims to establish itself as a key gateway to the continent’s booming EV market and a premier global platform for exploring cutting-edge innovations and market trends within the rapidly expanding EV sector. \nAs the European Union pursues ambitious net-zero emission goals\, the region is witnessing an unprecedented surge in EV adoption. The EU’s commitment to achieving net-zero emissions by 2050 and policies like the Fit for 55 plan—which aims to reduce greenhouse gas emissions by 55% by 2030—have been significant drivers of growth. In 2023\, EV registrations across Europe increased by 17%\, propelled by government incentives\, technological advancements\, and rising consumer demand for sustainable transport solutions. The European EV market is projected to generate nearly €359.4 billion in revenue by 2029\, solidifying its position as a global leader in the transition to zero-emission mobility. \nEuro EV Show 2025 Exhibition\nDiscover the Future of Electric Mobility \nShowcasing a diverse array of electric vehicles\, micromobility solutions\, advanced batteries\, and smart charging technologies\, the Euro EV Show 2025 Exhibition is an immersive experience for discovering Europe’s leading EV advancements. Experience test drives\, live demos\, and insights into the latest sustainable mobility trends. \nWhat Products and Technologies to Expect at Euro EV Show 2025\n\nElectric Vehicles\nExplore an impressive range of electric cars\, buses\, trucks\, eVTOLs\, and micro-mobility vehicles from industry leaders. \n\n\nBattery Innovations\nDiscover breakthroughs in battery efficiency\, capacity\, recycling methods\, and energy storage solutions to power the future. \n\n\nCharging Infrastructure\nLearn about cutting-edge fast-charging stations\, smart grid technologies\, and home charging solutions enhancing user convenience. \n\n\nConnected and Autonomous Mobility\nDiscover breakthroughs in battery efficiency\, capacity\, recycling methods\, and energy storage solutions to power the future. \n\n\nMobility-as-a-Service (MaaS)\nDiscover breakthroughs in battery efficiency\, capacity\, recycling methods\, and energy storage solutions to power the future. \n\n\nSustainable Manufacturing Practices\nExplore an impressive range of electric cars\, buses\, trucks\, eVTOLs\, and micro-mobility vehicles from industry leaders. \nEuro EV Show 2025 Conference\nInsights Driving the EV Transition \nThe Euro EV Show 2025 Conference brings together thought leaders to tackle key topics\, from fleet electrification to next-gen battery solutions and autonomous mobility. Designed for manufacturers\, policymakers\, and industry innovators\, this conference offers actionable insights to lead in the evolving EV ecosystem. \nKey Topics: \nElectric Vehicle Innovations\nDesigned for car manufacturers and tech leaders\, this track highlights the latest advancements in EV models\, materials\, and design innovations impacting production and market appeal. \nFleet Electrification and Management\nFor fleet operators\, logistics professionals\, and manufacturers\, this session explores fleet electrification strategies\, smart management\, and cost-efficient practices that streamline operations and sustainability. \nBattery Technologies and Storage Solutions\nCritical for all industry stakeholders\, these sessions cover advancements in battery chemistry\, recyclability\, and energy storage solutions that power the future of EVs. \nCharging Infrastructure & Grid Integration\nFor city planners\, energy providers\, and OEMs\, discover the latest in fast-charging\, home charging solutions\, and smart grid integration\, helping Europe gear up for mass EV adoption. \nConnected and Autonomous Mobility\nCar manufacturers\, tech developers\, and investors can explore V2X (vehicle-to-everything) innovations\, autonomous vehicle advancements\, and smart mobility solutions that are revolutionising safety and efficiency. \nMicromobility and Urban Solutions\nFocused on sustainable\, compact transit options\, this track benefits urban planners\, local governments\, and mobility-as-a-service (MaaS) providers aiming to decongest cities with micromobility solutions.’ \nWho will benefit from visiting Euro EV Show 2025? \n\nCar Manufacturers and OEMs\nDeep insights into production innovations\, regulatory trends\, and consumer preferences.\nFleet Operators and Managers\nLearn the latest in electrification strategies\, cost-saving techniques\, and emissions reductions.\nInvestors and Startups\nDiscover emerging trends and growth areas in the EV sector.\nPolicymakers and City Planners\nGain knowledge on creating EV-friendly environments and supporting green policies.\nResearchers and Academics\nConnect with cutting-edge research in batteries\, materials\, and sustainable engineering.\n\n\nEvent Links\nRegistration link here \nOther enquiries here \nFor more EV related events\, visit ElectricBlue.Asia’s Events page
URL:https://electricblue.asia/event/euro-ev-show-2025/
LOCATION:La Nave Madrid\, C. Cifuentes\, 5\, Villaverde\, 28021 Madrid\, Spain\, Villaverde\, Madrid\, 28021\, Spain
CATEGORIES:Events,Exhibition
ATTACH;FMTTYPE=image/jpeg:https://electricblue.asia/wp-content/uploads/2025/02/Euro-EV-Show-2025.jpg
ORGANIZER;CN="Valiant Business Media":MAILTO:info@valiantandcompany.com
END:VEVENT
END:VCALENDAR