BEGIN:VCALENDAR
VERSION:2.0
PRODID:-//ElectricBlue.Asia - ECPv6.15.17.1//NONSGML v1.0//EN
CALSCALE:GREGORIAN
METHOD:PUBLISH
X-ORIGINAL-URL:https://electricblue.asia
X-WR-CALDESC:Events for ElectricBlue.Asia
REFRESH-INTERVAL;VALUE=DURATION:PT1H
X-Robots-Tag:noindex
X-PUBLISHED-TTL:PT1H
BEGIN:VTIMEZONE
TZID:Asia/Bangkok
BEGIN:STANDARD
TZOFFSETFROM:+0700
TZOFFSETTO:+0700
TZNAME:+07
DTSTART:20240101T000000
END:STANDARD
END:VTIMEZONE
BEGIN:VTIMEZONE
TZID:Asia/Jakarta
BEGIN:STANDARD
TZOFFSETFROM:+0700
TZOFFSETTO:+0700
TZNAME:WIB
DTSTART:20240101T000000
END:STANDARD
END:VTIMEZONE
BEGIN:VEVENT
DTSTART;TZID=Asia/Bangkok:20250702T100000
DTEND;TZID=Asia/Bangkok:20250704T180000
DTSTAMP:20260425T001041
CREATED:20250614T124757Z
LAST-MODIFIED:20250614T124757Z
UID:16436-1751450400-1751652000@electricblue.asia
SUMMARY:MobilityTech Asia 2025 Bangkok
DESCRIPTION:MobilityTech Asia 2025 Bangkok\nA premier trade exhibition and conference showcasing cutting-edge technologies and innovations reshaping the mobility sector across land\, sea\, and air. As transportation is rapidly evolving toward sustainability\, connectivity\, autonomy\, and tailored solutions\, manufacturers are embracing new technologies to develop intelligent\, automated vehicles – whether autonomous\, AI-driven\, connected\, electric\, hybrid\, hydrogen\, or the future of mobility. MobilityTech Asia – Bangkok\, in official partnership with The Electric Vehicle Association of Thailand (EVAT)\, is the rebranded edition of Electric Vehicle Asia\, with iEVTech serving as the main conference. It provides a vital platform for industry leaders to collaborate\, drive innovation\, and shape the future of mobility. \nMobilityTech Asia 2025 Bangkok Features & Activities\nStart Up Alley \n\n\n\nA hub for visionary startups to showcase breakthrough innovations and smart mobility solutions\, connecting with industry leaders and investors. \n\n\n\nAuto Part Pavilion\n\nA Showcase for top auto parts companies showcasing cutting-edge technology and future-ready trends in sustainable mobility.\n\nCarbon Free Valley\n\nShowcasing top energy and green tech organizations and associations driving Net Zero through innovative solutions and sustainable strategies.\n\nHydrogen Pavilion\n\nExplore cutting-edge hydrogen technology with leading producers and agencies driving breakthroughs in clean energy solutions.\n\nData Center Pavilion\n\n\n\n\nDiscover advanced data center innovations and connect with industry experts transforming energy management through digitalization. \n\n\n\nBio Energy Showcase\n\n\n\n\n\n\n\n\nExperience the latest in bioenergy\, featuring top producers and specialists pioneering greener\, more sustainable solutions. \nWhy visit MobilityTech Asia 2025?\n\nASIA’S LEADING MOBILITY TECHNOLOGY EVENT\nAsia’s destination for next-generation transportation\, smart mobility\, and advanced technology solutions.\nUNVEILING FUTURE MOBILITY INNOVATIONS\nExperience the latest breakthroughs and technologies shaping a smarter and sustainable mobility future.\nCONNECT WITH GLOBAL LEADING BRANDS\nMeet 250+ top brands\, global innovators\, and visionary startups unveiling game-changing technologies.\nUNLOCK BUSINESS GROWTH & INVESTMENT\nExpand your business opportunities and partnerships with mobility tech innovators and software solution providers.\nEXCLUSIVE KNOWLEDGE-SHARING PLATFORMS\nGain expert insights from 200+ global leaders on future transportation and smart mobility trends.\nTHE ULTIMATE SUSTAINABLE MOBILITY HUB\nThe leading community for the mobility industry to connect\, learn\, and network to shape the future of mobility.\n\nVisitors can register their entry to the event by accessing this link. \n\n\n\n\n\n\n\nFor more EV related events\, visit ElectricBlue.Asia’s events page.
URL:https://electricblue.asia/event/mobilitytech-asia-2025-bangkok/
LOCATION:Queen Sirikit National Convention Centre\, 60 Ratchadaphisek Rd\, Khlong Toei\, Bangkok 10110\, Thailand\, Bangkok\, Bangkok\, 10110\, Thailand
CATEGORIES:Events,Exhibition
ATTACH;FMTTYPE=image/jpeg:https://electricblue.asia/wp-content/uploads/2025/06/MobilityTech-Asia-2025-Bangkok-1.jpg
ORGANIZER;CN="Informa Markets":MAILTO:asew-th@informa.com
END:VEVENT
BEGIN:VEVENT
DTSTART;TZID=Asia/Jakarta:20250724T110000
DTEND;TZID=Asia/Jakarta:20250803T210000
DTSTAMP:20260425T001041
CREATED:20250723T043516Z
LAST-MODIFIED:20250723T043516Z
UID:16548-1753354800-1754254800@electricblue.asia
SUMMARY:Indonesia International Auto Show 2025
DESCRIPTION:Indonesia International Auto Show 2025\nContinuing the positive spirit achieved by the Indonesian automotive industry throughout the years\, GAIKINDO will once again hold\, the largest international scale automotive exhibition in Indonesia and Southeast Asia\, GAIKINDO Indonesia International Auto Show 2025 (GIIAS) on 24 July – 03 Augustus 2025 at ICE- BSD City\, Tangerang Regency. \nThis year’s GIIAS is special for GAIKINDO\, since it is the 32nd holding of GAIKINDO’s automotive exhibition since it was first initiated in 1986\, and is a milestone for GAIKINDO because\, through all of these exhibitions\, GAIKINDO has showcased Indonesian automotive industry’s achievements\, to the world. And GAIKINDO will continue to present the future of the automotive industry through GIIAS. \nAs a member of The International Organization of Motor Vehicle Manufacturers (OICA)\, GIIAS has been extensively recognized as the most advanced automotive platform\, that accentuates technologies\, premieres\, launches\, and branding of automotive brands in the country. \nGIIAS is a comprehensive exhibition that highlights innovations\, covering passenger cars\, commercial vehicles\, carrosseries\, motorcycles\, and supporting industry brands. \nSince 2015\, GIIAS has become the home of 11 world premieres\, 10 Asian Premieres\, showcasing more than 65 concept vehicles\, hosting more than 300 launches. Participated by more than 50 brands\, 20+ motorcycle brands\, and 350+ supporting industry brands. \nTEST DRIVES AT INDONESIA INTERNATIONAL AUTO SHOW 2025\nDate:\n24 July 2025 \n\n12AM – 2PM (Press Only)\n2PM – 8PM (Public)\n\n25 July – 2 August 2025 \n\n10AM – 8PM (Public)\n\n3 August 2025 \n\n10AM – 6PM (Public)\n\nLocation: \n\nTest Drive A (Loading Dock Hall 2 – 3A) ICE\, BSD\nTest Drive B (Loading Dock Hall 6\,8 & 9) ICE\, BSD\nTest Drive Convention Hall ICE\, BSD\nTest Drive Hall 11 ICE\, BSD\n\nTest Drive Experience: \n\nEV Water Obstacle\nRump\nSpeed Bump\n\nTEST YOUR DREAM CAR\, HASSLE-FREE \nStrategically located in the outdoor area\, GIIAS Test Drive area provides the opportunity for eligible visitors to trial their dream car based on its performance\, comfort\, ground clearance\, safety\, and other aspects. \n\nShow Dates : 24 July – 03 August 2025\nOpening Ceremony & VIP Day : 24 July 2025\nGeneral Public Day : 25 July – 03 August 2025\nVenue : Indonesia Convention Exhibition (ICE)\, BSD City\, Kab. Tangerang\, Indonesia\nWebsite : www.indonesiaautoshow.com\n\nFor more EV related events\, please visit ElectricBlue.Asia’s Events page.
URL:https://electricblue.asia/event/indonesia-international-auto-show-2025/
LOCATION:Indonesia Convention Exhibition (ICE) BSD City\, Jl. BSD Grand Boulevard No.1\, Pagedangan\, Kec. Pagedangan\, Kabupaten Tangerang\, Banten 15339\, Indonesia\, Tangerang\, Banten\, 15339\, Indonesia
CATEGORIES:Events,Exhibition
ATTACH;FMTTYPE=image/png:https://electricblue.asia/wp-content/uploads/2025/07/Indonesia-International-Auto-Show-2025-1-1.png
END:VEVENT
END:VCALENDAR